BEGIN:VCALENDAR
VERSION:2.0
PRODID:-//Purple Dragon Kitsilano - ECPv6.15.20//NONSGML v1.0//EN
CALSCALE:GREGORIAN
METHOD:PUBLISH
X-WR-CALNAME:Purple Dragon Kitsilano
X-ORIGINAL-URL:https://purpledragonbc.com
X-WR-CALDESC:Events for Purple Dragon Kitsilano
REFRESH-INTERVAL;VALUE=DURATION:PT1H
X-Robots-Tag:noindex
X-PUBLISHED-TTL:PT1H
BEGIN:VTIMEZONE
TZID:America/Vancouver
BEGIN:DAYLIGHT
TZOFFSETFROM:-0800
TZOFFSETTO:-0700
TZNAME:PDT
DTSTART:20250309T100000
END:DAYLIGHT
BEGIN:STANDARD
TZOFFSETFROM:-0700
TZOFFSETTO:-0800
TZNAME:PST
DTSTART:20251102T090000
END:STANDARD
BEGIN:DAYLIGHT
TZOFFSETFROM:-0800
TZOFFSETTO:-0700
TZNAME:PDT
DTSTART:20260308T100000
END:DAYLIGHT
BEGIN:STANDARD
TZOFFSETFROM:-0700
TZOFFSETTO:-0800
TZNAME:PST
DTSTART:20261101T090000
END:STANDARD
BEGIN:DAYLIGHT
TZOFFSETFROM:-0800
TZOFFSETTO:-0700
TZNAME:PDT
DTSTART:20270314T100000
END:DAYLIGHT
BEGIN:STANDARD
TZOFFSETFROM:-0700
TZOFFSETTO:-0800
TZNAME:PST
DTSTART:20271107T090000
END:STANDARD
END:VTIMEZONE
BEGIN:VEVENT
DTSTART;TZID=America/Vancouver:20260228T111500
DTEND;TZID=America/Vancouver:20260228T121500
DTSTAMP:20260422T234923
CREATED:20260204T015721Z
LAST-MODIFIED:20260204T015721Z
UID:3689-1772277300-1772280900@purpledragonbc.com
SUMMARY:Kids All Ranks
DESCRIPTION:
URL:https://purpledragonbc.com/event/kids-all-ranks-24/
END:VEVENT
BEGIN:VEVENT
DTSTART;TZID=America/Vancouver:20260228T103000
DTEND;TZID=America/Vancouver:20260228T110000
DTSTAMP:20260422T234923
CREATED:20260204T015645Z
LAST-MODIFIED:20260204T015645Z
UID:3687-1772274600-1772276400@purpledragonbc.com
SUMMARY:Mini Dragons (2-3)
DESCRIPTION:
URL:https://purpledragonbc.com/event/mini-dragons-2-3-25/
END:VEVENT
BEGIN:VEVENT
DTSTART;TZID=America/Vancouver:20260228T091500
DTEND;TZID=America/Vancouver:20260228T101500
DTSTAMP:20260422T234923
CREATED:20260204T015611Z
LAST-MODIFIED:20260204T015611Z
UID:3685-1772270100-1772273700@purpledragonbc.com
SUMMARY:Kickboxing 14+
DESCRIPTION:
URL:https://purpledragonbc.com/event/kickboxing-14-69/
END:VEVENT
BEGIN:VEVENT
DTSTART;TZID=America/Vancouver:20260227T190000
DTEND;TZID=America/Vancouver:20260227T200000
DTSTAMP:20260422T234923
CREATED:20260204T015525Z
LAST-MODIFIED:20260204T015525Z
UID:3683-1772218800-1772222400@purpledragonbc.com
SUMMARY:Adults Don Jitsu
DESCRIPTION:
URL:https://purpledragonbc.com/event/adults-don-jitsu-48/
END:VEVENT
BEGIN:VEVENT
DTSTART;TZID=America/Vancouver:20260227T174500
DTEND;TZID=America/Vancouver:20260227T184500
DTSTAMP:20260422T234923
CREATED:20260204T015500Z
LAST-MODIFIED:20260204T015500Z
UID:3681-1772214300-1772217900@purpledragonbc.com
SUMMARY:Kids Green-Black
DESCRIPTION:
URL:https://purpledragonbc.com/event/kids-green-black-41/
END:VEVENT
BEGIN:VEVENT
DTSTART;TZID=America/Vancouver:20260227T164500
DTEND;TZID=America/Vancouver:20260227T174500
DTSTAMP:20260422T234923
CREATED:20260204T015432Z
LAST-MODIFIED:20260204T015432Z
UID:3679-1772210700-1772214300@purpledragonbc.com
SUMMARY:Kids White-Orange
DESCRIPTION:
URL:https://purpledragonbc.com/event/kids-white-orange-60/
END:VEVENT
BEGIN:VEVENT
DTSTART;TZID=America/Vancouver:20260226T181500
DTEND;TZID=America/Vancouver:20260226T191500
DTSTAMP:20260422T234923
CREATED:20260204T015348Z
LAST-MODIFIED:20260204T015348Z
UID:3677-1772129700-1772133300@purpledragonbc.com
SUMMARY:Kickboxing 14+
DESCRIPTION:
URL:https://purpledragonbc.com/event/kickboxing-14-68/
END:VEVENT
BEGIN:VEVENT
DTSTART;TZID=America/Vancouver:20260226T171500
DTEND;TZID=America/Vancouver:20260226T180000
DTSTAMP:20260422T234923
CREATED:20260204T015322Z
LAST-MODIFIED:20260204T015322Z
UID:3675-1772126100-1772128800@purpledragonbc.com
SUMMARY:Little Dragons (4-6)
DESCRIPTION:
URL:https://purpledragonbc.com/event/little-dragons-4-6-66/
END:VEVENT
BEGIN:VEVENT
DTSTART;TZID=America/Vancouver:20260226T160000
DTEND;TZID=America/Vancouver:20260226T170000
DTSTAMP:20260422T234923
CREATED:20260204T015254Z
LAST-MODIFIED:20260204T015254Z
UID:3673-1772121600-1772125200@purpledragonbc.com
SUMMARY:Teens Don Jitsu
DESCRIPTION:
URL:https://purpledragonbc.com/event/teens-don-jitsu-22/
END:VEVENT
BEGIN:VEVENT
DTSTART;TZID=America/Vancouver:20260225T190000
DTEND;TZID=America/Vancouver:20260225T200000
DTSTAMP:20260422T234923
CREATED:20260204T015232Z
LAST-MODIFIED:20260204T015232Z
UID:3671-1772046000-1772049600@purpledragonbc.com
SUMMARY:Adults Don Jitsu
DESCRIPTION:
URL:https://purpledragonbc.com/event/adults-don-jitsu-47/
END:VEVENT
BEGIN:VEVENT
DTSTART;TZID=America/Vancouver:20260225T174500
DTEND;TZID=America/Vancouver:20260225T184500
DTSTAMP:20260422T234923
CREATED:20260204T015136Z
LAST-MODIFIED:20260204T015209Z
UID:3669-1772041500-1772045100@purpledragonbc.com
SUMMARY:Kids Green-Black
DESCRIPTION:
URL:https://purpledragonbc.com/event/kids-green-black-40/
END:VEVENT
BEGIN:VEVENT
DTSTART;TZID=America/Vancouver:20260225T164500
DTEND;TZID=America/Vancouver:20260225T174500
DTSTAMP:20260422T234923
CREATED:20260204T015108Z
LAST-MODIFIED:20260204T015108Z
UID:3667-1772037900-1772041500@purpledragonbc.com
SUMMARY:Kids White-Orange
DESCRIPTION:
URL:https://purpledragonbc.com/event/kids-white-orange-59/
END:VEVENT
BEGIN:VEVENT
DTSTART;TZID=America/Vancouver:20260224T193000
DTEND;TZID=America/Vancouver:20260224T203000
DTSTAMP:20260422T234923
CREATED:20260204T015035Z
LAST-MODIFIED:20260204T015035Z
UID:3665-1771961400-1771965000@purpledragonbc.com
SUMMARY:Don Jitsu 50+
DESCRIPTION:
URL:https://purpledragonbc.com/event/don-jitsu-50-18/
END:VEVENT
BEGIN:VEVENT
DTSTART;TZID=America/Vancouver:20260224T181500
DTEND;TZID=America/Vancouver:20260224T191500
DTSTAMP:20260422T234923
CREATED:20260204T015009Z
LAST-MODIFIED:20260204T015009Z
UID:3663-1771956900-1771960500@purpledragonbc.com
SUMMARY:Kickboxing 14+
DESCRIPTION:
URL:https://purpledragonbc.com/event/kickboxing-14-67/
END:VEVENT
BEGIN:VEVENT
DTSTART;TZID=America/Vancouver:20260224T171500
DTEND;TZID=America/Vancouver:20260224T180000
DTSTAMP:20260422T234923
CREATED:20260204T014931Z
LAST-MODIFIED:20260204T014931Z
UID:3661-1771953300-1771956000@purpledragonbc.com
SUMMARY:Little Dragons (4-6)
DESCRIPTION:
URL:https://purpledragonbc.com/event/little-dragons-4-6-65/
END:VEVENT
BEGIN:VEVENT
DTSTART;TZID=America/Vancouver:20260223T190000
DTEND;TZID=America/Vancouver:20260223T200000
DTSTAMP:20260422T234923
CREATED:20260204T014903Z
LAST-MODIFIED:20260204T014903Z
UID:3659-1771873200-1771876800@purpledragonbc.com
SUMMARY:Black Belt
DESCRIPTION:
URL:https://purpledragonbc.com/event/black-belt-4/
END:VEVENT
BEGIN:VEVENT
DTSTART;TZID=America/Vancouver:20260223T174500
DTEND;TZID=America/Vancouver:20260223T184500
DTSTAMP:20260422T234923
CREATED:20260204T014842Z
LAST-MODIFIED:20260204T014842Z
UID:3657-1771868700-1771872300@purpledragonbc.com
SUMMARY:Jr. Black Belt
DESCRIPTION:
URL:https://purpledragonbc.com/event/jr-black-belt-18/
END:VEVENT
BEGIN:VEVENT
DTSTART;TZID=America/Vancouver:20260223T164500
DTEND;TZID=America/Vancouver:20260223T174500
DTSTAMP:20260422T234923
CREATED:20260204T014813Z
LAST-MODIFIED:20260204T014813Z
UID:3655-1771865100-1771868700@purpledragonbc.com
SUMMARY:Kids White-Orange
DESCRIPTION:
URL:https://purpledragonbc.com/event/kids-white-orange-58/
END:VEVENT
BEGIN:VEVENT
DTSTART;TZID=America/Vancouver:20260221T173000
DTEND;TZID=America/Vancouver:20260221T200000
DTSTAMP:20260422T234923
CREATED:20260204T014323Z
LAST-MODIFIED:20260204T014729Z
UID:3653-1771695000-1771704000@purpledragonbc.com
SUMMARY:Kids Movie Night "Zootopia 2"
DESCRIPTION:
URL:https://purpledragonbc.com/event/kids-movie-night-zootopia-2/
END:VEVENT
BEGIN:VEVENT
DTSTART;TZID=America/Vancouver:20260221T134500
DTEND;TZID=America/Vancouver:20260221T143000
DTSTAMP:20260422T234923
CREATED:20260204T014225Z
LAST-MODIFIED:20260204T014225Z
UID:3651-1771681500-1771684200@purpledragonbc.com
SUMMARY:Little Dragons (4-6)
DESCRIPTION:
URL:https://purpledragonbc.com/event/little-dragons-4-6-64/
END:VEVENT
BEGIN:VEVENT
DTSTART;TZID=America/Vancouver:20260221T123000
DTEND;TZID=America/Vancouver:20260221T133000
DTSTAMP:20260422T234923
CREATED:20260204T014131Z
LAST-MODIFIED:20260204T014131Z
UID:3649-1771677000-1771680600@purpledragonbc.com
SUMMARY:Teens & Adults
DESCRIPTION:
URL:https://purpledragonbc.com/event/teens-adults-5/
END:VEVENT
BEGIN:VEVENT
DTSTART;TZID=America/Vancouver:20260221T111500
DTEND;TZID=America/Vancouver:20260221T121500
DTSTAMP:20260422T234923
CREATED:20260204T014054Z
LAST-MODIFIED:20260204T014054Z
UID:3647-1771672500-1771676100@purpledragonbc.com
SUMMARY:Kids All Ranks
DESCRIPTION:
URL:https://purpledragonbc.com/event/kids-all-ranks-23/
END:VEVENT
BEGIN:VEVENT
DTSTART;TZID=America/Vancouver:20260221T103000
DTEND;TZID=America/Vancouver:20260221T110000
DTSTAMP:20260422T234923
CREATED:20260204T014011Z
LAST-MODIFIED:20260204T014011Z
UID:3645-1771669800-1771671600@purpledragonbc.com
SUMMARY:Mini Dragons (2-3)
DESCRIPTION:
URL:https://purpledragonbc.com/event/mini-dragons-2-3-24/
END:VEVENT
BEGIN:VEVENT
DTSTART;TZID=America/Vancouver:20260221T091500
DTEND;TZID=America/Vancouver:20260221T101500
DTSTAMP:20260422T234923
CREATED:20260204T013927Z
LAST-MODIFIED:20260204T013927Z
UID:3643-1771665300-1771668900@purpledragonbc.com
SUMMARY:Kickboxing 14+
DESCRIPTION:
URL:https://purpledragonbc.com/event/kickboxing-14-66/
END:VEVENT
BEGIN:VEVENT
DTSTART;TZID=America/Vancouver:20260220T190000
DTEND;TZID=America/Vancouver:20260220T200000
DTSTAMP:20260422T234923
CREATED:20260204T013849Z
LAST-MODIFIED:20260204T013849Z
UID:3641-1771614000-1771617600@purpledragonbc.com
SUMMARY:Adults Don Jitsu
DESCRIPTION:
URL:https://purpledragonbc.com/event/adults-don-jitsu-46/
END:VEVENT
BEGIN:VEVENT
DTSTART;TZID=America/Vancouver:20260220T174500
DTEND;TZID=America/Vancouver:20260220T180000
DTSTAMP:20260422T234923
CREATED:20260204T013820Z
LAST-MODIFIED:20260204T013820Z
UID:3639-1771609500-1771610400@purpledragonbc.com
SUMMARY:Kids Green-Black
DESCRIPTION:
URL:https://purpledragonbc.com/event/kids-green-black-39/
END:VEVENT
BEGIN:VEVENT
DTSTART;TZID=America/Vancouver:20260220T164500
DTEND;TZID=America/Vancouver:20260220T174500
DTSTAMP:20260422T234923
CREATED:20260204T013703Z
LAST-MODIFIED:20260204T013703Z
UID:3637-1771605900-1771609500@purpledragonbc.com
SUMMARY:Kids White-Orange
DESCRIPTION:
URL:https://purpledragonbc.com/event/kids-white-orange-57/
END:VEVENT
BEGIN:VEVENT
DTSTART;TZID=America/Vancouver:20260219T181500
DTEND;TZID=America/Vancouver:20260219T191500
DTSTAMP:20260422T234923
CREATED:20260204T013626Z
LAST-MODIFIED:20260204T013626Z
UID:3635-1771524900-1771528500@purpledragonbc.com
SUMMARY:Kickboxing 14+
DESCRIPTION:
URL:https://purpledragonbc.com/event/kickboxing-14-65/
END:VEVENT
BEGIN:VEVENT
DTSTART;TZID=America/Vancouver:20260219T171500
DTEND;TZID=America/Vancouver:20260219T180000
DTSTAMP:20260422T234923
CREATED:20260204T013552Z
LAST-MODIFIED:20260204T013552Z
UID:3633-1771521300-1771524000@purpledragonbc.com
SUMMARY:Little Dragons (4-6)
DESCRIPTION:
URL:https://purpledragonbc.com/event/little-dragons-4-6-63/
END:VEVENT
BEGIN:VEVENT
DTSTART;TZID=America/Vancouver:20260219T160000
DTEND;TZID=America/Vancouver:20260219T170000
DTSTAMP:20260422T234923
CREATED:20260204T013516Z
LAST-MODIFIED:20260204T013516Z
UID:3631-1771516800-1771520400@purpledragonbc.com
SUMMARY:Teens Don Jitsu
DESCRIPTION:
URL:https://purpledragonbc.com/event/teens-don-jitsu-21/
END:VEVENT
END:VCALENDAR