BEGIN:VCALENDAR
VERSION:2.0
PRODID:-//Purple Dragon Kitsilano - ECPv6.15.20//NONSGML v1.0//EN
CALSCALE:GREGORIAN
METHOD:PUBLISH
X-WR-CALNAME:Purple Dragon Kitsilano
X-ORIGINAL-URL:https://purpledragonbc.com
X-WR-CALDESC:Events for Purple Dragon Kitsilano
REFRESH-INTERVAL;VALUE=DURATION:PT1H
X-Robots-Tag:noindex
X-PUBLISHED-TTL:PT1H
BEGIN:VTIMEZONE
TZID:America/Vancouver
BEGIN:DAYLIGHT
TZOFFSETFROM:-0800
TZOFFSETTO:-0700
TZNAME:PDT
DTSTART:20250309T100000
END:DAYLIGHT
BEGIN:STANDARD
TZOFFSETFROM:-0700
TZOFFSETTO:-0800
TZNAME:PST
DTSTART:20251102T090000
END:STANDARD
BEGIN:DAYLIGHT
TZOFFSETFROM:-0800
TZOFFSETTO:-0700
TZNAME:PDT
DTSTART:20260308T100000
END:DAYLIGHT
BEGIN:STANDARD
TZOFFSETFROM:-0700
TZOFFSETTO:-0800
TZNAME:PST
DTSTART:20261101T090000
END:STANDARD
BEGIN:DAYLIGHT
TZOFFSETFROM:-0800
TZOFFSETTO:-0700
TZNAME:PDT
DTSTART:20270314T100000
END:DAYLIGHT
BEGIN:STANDARD
TZOFFSETFROM:-0700
TZOFFSETTO:-0800
TZNAME:PST
DTSTART:20271107T090000
END:STANDARD
END:VTIMEZONE
BEGIN:VEVENT
DTSTART;TZID=America/Vancouver:20260204T174500
DTEND;TZID=America/Vancouver:20260204T184500
DTSTAMP:20260422T235044
CREATED:20260203T153721Z
LAST-MODIFIED:20260203T153721Z
UID:3537-1770227100-1770230700@purpledragonbc.com
SUMMARY:Kids Green-Brown
DESCRIPTION:
URL:https://purpledragonbc.com/event/kids-green-brown-3/
END:VEVENT
BEGIN:VEVENT
DTSTART;TZID=America/Vancouver:20260204T164500
DTEND;TZID=America/Vancouver:20260204T174500
DTSTAMP:20260422T235044
CREATED:20260203T153639Z
LAST-MODIFIED:20260203T153639Z
UID:3535-1770223500-1770227100@purpledragonbc.com
SUMMARY:Kids White-Orange
DESCRIPTION:
URL:https://purpledragonbc.com/event/kids-white-orange-49/
END:VEVENT
BEGIN:VEVENT
DTSTART;TZID=America/Vancouver:20260203T193000
DTEND;TZID=America/Vancouver:20260203T203000
DTSTAMP:20260422T235044
CREATED:20260203T153603Z
LAST-MODIFIED:20260203T153603Z
UID:3533-1770147000-1770150600@purpledragonbc.com
SUMMARY:Don Jitsu 50+
DESCRIPTION:
URL:https://purpledragonbc.com/event/don-jitsu-50-15/
END:VEVENT
BEGIN:VEVENT
DTSTART;TZID=America/Vancouver:20260203T181500
DTEND;TZID=America/Vancouver:20260203T191500
DTSTAMP:20260422T235044
CREATED:20260203T153531Z
LAST-MODIFIED:20260203T153531Z
UID:3531-1770142500-1770146100@purpledragonbc.com
SUMMARY:Kickboxing 14+
DESCRIPTION:
URL:https://purpledragonbc.com/event/kickboxing-14-57/
END:VEVENT
BEGIN:VEVENT
DTSTART;TZID=America/Vancouver:20260203T171500
DTEND;TZID=America/Vancouver:20260203T180000
DTSTAMP:20260422T235044
CREATED:20260203T153458Z
LAST-MODIFIED:20260203T153458Z
UID:3529-1770138900-1770141600@purpledragonbc.com
SUMMARY:Little Dragons (4-6)
DESCRIPTION:
URL:https://purpledragonbc.com/event/little-dragons-4-6-56/
END:VEVENT
BEGIN:VEVENT
DTSTART;TZID=America/Vancouver:20260202T200000
DTEND;TZID=America/Vancouver:20260202T210000
DTSTAMP:20260422T235044
CREATED:20260203T182843Z
LAST-MODIFIED:20260203T182843Z
UID:3569-1770062400-1770066000@purpledragonbc.com
SUMMARY:Teacher Training
DESCRIPTION:
URL:https://purpledragonbc.com/event/teacher-training-2/
END:VEVENT
BEGIN:VEVENT
DTSTART;TZID=America/Vancouver:20260202T190000
DTEND;TZID=America/Vancouver:20260202T200000
DTSTAMP:20260422T235044
CREATED:20260203T182815Z
LAST-MODIFIED:20260203T182815Z
UID:3567-1770058800-1770062400@purpledragonbc.com
SUMMARY:Black Belt
DESCRIPTION:
URL:https://purpledragonbc.com/event/black-belt/
END:VEVENT
BEGIN:VEVENT
DTSTART;TZID=America/Vancouver:20260202T174500
DTEND;TZID=America/Vancouver:20260202T184500
DTSTAMP:20260422T235044
CREATED:20260203T182740Z
LAST-MODIFIED:20260203T182740Z
UID:3565-1770054300-1770057900@purpledragonbc.com
SUMMARY:Jr. Black Belt
DESCRIPTION:
URL:https://purpledragonbc.com/event/jr-black-belt-15/
END:VEVENT
BEGIN:VEVENT
DTSTART;TZID=America/Vancouver:20260202T164500
DTEND;TZID=America/Vancouver:20260202T174500
DTSTAMP:20260422T235044
CREATED:20260203T182657Z
LAST-MODIFIED:20260203T182657Z
UID:3563-1770050700-1770054300@purpledragonbc.com
SUMMARY:Kids White-Orange
DESCRIPTION:
URL:https://purpledragonbc.com/event/kids-white-orange-51/
END:VEVENT
BEGIN:VEVENT
DTSTART;TZID=America/Vancouver:20260201T143000
DTEND;TZID=America/Vancouver:20260201T160000
DTSTAMP:20260422T235044
CREATED:20260119T184014Z
LAST-MODIFIED:20260119T184014Z
UID:3505-1769956200-1769961600@purpledragonbc.com
SUMMARY:Weapons Seminar (Green-Black)
DESCRIPTION:
URL:https://purpledragonbc.com/event/weapons-seminar-green-black/
END:VEVENT
BEGIN:VEVENT
DTSTART;TZID=America/Vancouver:20260131T134500
DTEND;TZID=America/Vancouver:20260131T143000
DTSTAMP:20260422T235044
CREATED:20260119T183916Z
LAST-MODIFIED:20260119T183916Z
UID:3503-1769867100-1769869800@purpledragonbc.com
SUMMARY:Little Dragons (4-6)
DESCRIPTION:
URL:https://purpledragonbc.com/event/little-dragons-4-6-55/
END:VEVENT
BEGIN:VEVENT
DTSTART;TZID=America/Vancouver:20260131T123000
DTEND;TZID=America/Vancouver:20260131T133000
DTSTAMP:20260422T235044
CREATED:20260119T183709Z
LAST-MODIFIED:20260119T183709Z
UID:3501-1769862600-1769866200@purpledragonbc.com
SUMMARY:Teens & Adults Don Jitsu
DESCRIPTION:
URL:https://purpledragonbc.com/event/teens-adults-don-jitsu-17/
END:VEVENT
BEGIN:VEVENT
DTSTART;TZID=America/Vancouver:20260131T111500
DTEND;TZID=America/Vancouver:20260131T121500
DTSTAMP:20260422T235044
CREATED:20260119T183515Z
LAST-MODIFIED:20260119T183515Z
UID:3499-1769858100-1769861700@purpledragonbc.com
SUMMARY:Kids All Ranks
DESCRIPTION:
URL:https://purpledragonbc.com/event/kids-all-ranks-20/
END:VEVENT
BEGIN:VEVENT
DTSTART;TZID=America/Vancouver:20260131T103000
DTEND;TZID=America/Vancouver:20260131T110000
DTSTAMP:20260422T235044
CREATED:20260119T183442Z
LAST-MODIFIED:20260119T183442Z
UID:3497-1769855400-1769857200@purpledragonbc.com
SUMMARY:Mini Dragons (2-3)
DESCRIPTION:
URL:https://purpledragonbc.com/event/mini-dragons-2-3-21/
END:VEVENT
BEGIN:VEVENT
DTSTART;TZID=America/Vancouver:20260131T091500
DTEND;TZID=America/Vancouver:20260131T101500
DTSTAMP:20260422T235044
CREATED:20260119T183355Z
LAST-MODIFIED:20260119T183355Z
UID:3495-1769850900-1769854500@purpledragonbc.com
SUMMARY:Kickboxing 14+
DESCRIPTION:
URL:https://purpledragonbc.com/event/kickboxing-14-56/
END:VEVENT
BEGIN:VEVENT
DTSTART;TZID=America/Vancouver:20260130T190000
DTEND;TZID=America/Vancouver:20260130T200000
DTSTAMP:20260422T235044
CREATED:20260119T183318Z
LAST-MODIFIED:20260119T183318Z
UID:3493-1769799600-1769803200@purpledragonbc.com
SUMMARY:Adults Don Jitsu
DESCRIPTION:
URL:https://purpledragonbc.com/event/adults-don-jitsu-40/
END:VEVENT
BEGIN:VEVENT
DTSTART;TZID=America/Vancouver:20260130T174500
DTEND;TZID=America/Vancouver:20260130T184500
DTSTAMP:20260422T235044
CREATED:20260119T183233Z
LAST-MODIFIED:20260119T183233Z
UID:3491-1769795100-1769798700@purpledragonbc.com
SUMMARY:Kids Green-Black
DESCRIPTION:
URL:https://purpledragonbc.com/event/kids-green-black-35/
END:VEVENT
BEGIN:VEVENT
DTSTART;TZID=America/Vancouver:20260130T164500
DTEND;TZID=America/Vancouver:20260130T174500
DTSTAMP:20260422T235044
CREATED:20260119T183157Z
LAST-MODIFIED:20260119T183157Z
UID:3489-1769791500-1769795100@purpledragonbc.com
SUMMARY:Kids White-Orange
DESCRIPTION:
URL:https://purpledragonbc.com/event/kids-white-orange-48/
END:VEVENT
BEGIN:VEVENT
DTSTART;TZID=America/Vancouver:20260129T181500
DTEND;TZID=America/Vancouver:20260129T191500
DTSTAMP:20260422T235044
CREATED:20260119T183041Z
LAST-MODIFIED:20260119T183041Z
UID:3487-1769710500-1769714100@purpledragonbc.com
SUMMARY:Kickboxing 14+
DESCRIPTION:
URL:https://purpledragonbc.com/event/kickboxing-14-55/
END:VEVENT
BEGIN:VEVENT
DTSTART;TZID=America/Vancouver:20260129T171500
DTEND;TZID=America/Vancouver:20260129T180000
DTSTAMP:20260422T235044
CREATED:20260119T183005Z
LAST-MODIFIED:20260119T183005Z
UID:3485-1769706900-1769709600@purpledragonbc.com
SUMMARY:Little Dragons (4-6)
DESCRIPTION:
URL:https://purpledragonbc.com/event/little-dragons-4-6-54/
END:VEVENT
BEGIN:VEVENT
DTSTART;TZID=America/Vancouver:20260129T160000
DTEND;TZID=America/Vancouver:20260129T170000
DTSTAMP:20260422T235044
CREATED:20260119T182550Z
LAST-MODIFIED:20260119T182550Z
UID:3483-1769702400-1769706000@purpledragonbc.com
SUMMARY:Teens Don Jitsu
DESCRIPTION:
URL:https://purpledragonbc.com/event/teens-don-jitsu-18/
END:VEVENT
BEGIN:VEVENT
DTSTART;TZID=America/Vancouver:20260128T190000
DTEND;TZID=America/Vancouver:20260128T200000
DTSTAMP:20260422T235044
CREATED:20260119T182452Z
LAST-MODIFIED:20260119T182452Z
UID:3481-1769626800-1769630400@purpledragonbc.com
SUMMARY:Adults Don Jitsu
DESCRIPTION:
URL:https://purpledragonbc.com/event/adults-don-jitsu-39/
END:VEVENT
BEGIN:VEVENT
DTSTART;TZID=America/Vancouver:20260128T174500
DTEND;TZID=America/Vancouver:20260128T184500
DTSTAMP:20260422T235044
CREATED:20260119T175554Z
LAST-MODIFIED:20260119T175554Z
UID:3479-1769622300-1769625900@purpledragonbc.com
SUMMARY:Kids Green-Black
DESCRIPTION:
URL:https://purpledragonbc.com/event/kids-green-black-34/
END:VEVENT
BEGIN:VEVENT
DTSTART;TZID=America/Vancouver:20260128T164500
DTEND;TZID=America/Vancouver:20260128T174500
DTSTAMP:20260422T235044
CREATED:20260119T175524Z
LAST-MODIFIED:20260119T175524Z
UID:3477-1769618700-1769622300@purpledragonbc.com
SUMMARY:Kids White-Orange
DESCRIPTION:
URL:https://purpledragonbc.com/event/kids-white-orange-47/
END:VEVENT
BEGIN:VEVENT
DTSTART;TZID=America/Vancouver:20260127T193000
DTEND;TZID=America/Vancouver:20260127T203000
DTSTAMP:20260422T235044
CREATED:20260119T175453Z
LAST-MODIFIED:20260119T175453Z
UID:3475-1769542200-1769545800@purpledragonbc.com
SUMMARY:Don Jitsu 50+
DESCRIPTION:
URL:https://purpledragonbc.com/event/don-jitsu-50-14/
END:VEVENT
BEGIN:VEVENT
DTSTART;TZID=America/Vancouver:20260127T181500
DTEND;TZID=America/Vancouver:20260127T191500
DTSTAMP:20260422T235044
CREATED:20260119T175425Z
LAST-MODIFIED:20260119T175425Z
UID:3473-1769537700-1769541300@purpledragonbc.com
SUMMARY:Kickboxing 14+
DESCRIPTION:
URL:https://purpledragonbc.com/event/kickboxing-14-54/
END:VEVENT
BEGIN:VEVENT
DTSTART;TZID=America/Vancouver:20260127T171500
DTEND;TZID=America/Vancouver:20260127T180000
DTSTAMP:20260422T235044
CREATED:20260119T173634Z
LAST-MODIFIED:20260119T173634Z
UID:3471-1769534100-1769536800@purpledragonbc.com
SUMMARY:Little Dragons (4-6)
DESCRIPTION:
URL:https://purpledragonbc.com/event/little-dragons-4-6-53/
END:VEVENT
BEGIN:VEVENT
DTSTART;TZID=America/Vancouver:20260126T190000
DTEND;TZID=America/Vancouver:20260126T200000
DTSTAMP:20260422T235044
CREATED:20260119T173552Z
LAST-MODIFIED:20260119T173552Z
UID:3469-1769454000-1769457600@purpledragonbc.com
SUMMARY:Black Belt Class
DESCRIPTION:
URL:https://purpledragonbc.com/event/black-belt-class-8/
END:VEVENT
BEGIN:VEVENT
DTSTART;TZID=America/Vancouver:20260126T174500
DTEND;TZID=America/Vancouver:20260126T184500
DTSTAMP:20260422T235044
CREATED:20260119T173336Z
LAST-MODIFIED:20260119T173336Z
UID:3467-1769449500-1769453100@purpledragonbc.com
SUMMARY:Jr. Black Belt
DESCRIPTION:
URL:https://purpledragonbc.com/event/jr-black-belt-14/
END:VEVENT
BEGIN:VEVENT
DTSTART;TZID=America/Vancouver:20260126T164500
DTEND;TZID=America/Vancouver:20260126T174500
DTSTAMP:20260422T235044
CREATED:20260119T173253Z
LAST-MODIFIED:20260119T173253Z
UID:3465-1769445900-1769449500@purpledragonbc.com
SUMMARY:Kids White-Orange
DESCRIPTION:
URL:https://purpledragonbc.com/event/kids-white-orange-46/
END:VEVENT
END:VCALENDAR