BEGIN:VCALENDAR
VERSION:2.0
PRODID:-//Purple Dragon Kitsilano - ECPv6.15.20//NONSGML v1.0//EN
CALSCALE:GREGORIAN
METHOD:PUBLISH
X-WR-CALNAME:Purple Dragon Kitsilano
X-ORIGINAL-URL:https://purpledragonbc.com
X-WR-CALDESC:Events for Purple Dragon Kitsilano
REFRESH-INTERVAL;VALUE=DURATION:PT1H
X-Robots-Tag:noindex
X-PUBLISHED-TTL:PT1H
BEGIN:VTIMEZONE
TZID:America/Vancouver
BEGIN:DAYLIGHT
TZOFFSETFROM:-0800
TZOFFSETTO:-0700
TZNAME:PDT
DTSTART:20250309T100000
END:DAYLIGHT
BEGIN:STANDARD
TZOFFSETFROM:-0700
TZOFFSETTO:-0800
TZNAME:PST
DTSTART:20251102T090000
END:STANDARD
BEGIN:DAYLIGHT
TZOFFSETFROM:-0800
TZOFFSETTO:-0700
TZNAME:PDT
DTSTART:20260308T100000
END:DAYLIGHT
BEGIN:STANDARD
TZOFFSETFROM:-0700
TZOFFSETTO:-0800
TZNAME:PST
DTSTART:20261101T090000
END:STANDARD
BEGIN:DAYLIGHT
TZOFFSETFROM:-0800
TZOFFSETTO:-0700
TZNAME:PDT
DTSTART:20270314T100000
END:DAYLIGHT
BEGIN:STANDARD
TZOFFSETFROM:-0700
TZOFFSETTO:-0800
TZNAME:PST
DTSTART:20271107T090000
END:STANDARD
END:VTIMEZONE
BEGIN:VEVENT
DTSTART;TZID=America/Vancouver:20260217T171500
DTEND;TZID=America/Vancouver:20260217T180000
DTSTAMP:20260423T025337
CREATED:20260204T012924Z
LAST-MODIFIED:20260204T012924Z
UID:3619-1771348500-1771351200@purpledragonbc.com
SUMMARY:Little Dragons (4-6)
DESCRIPTION:
URL:https://purpledragonbc.com/event/little-dragons-4-6-62/
END:VEVENT
BEGIN:VEVENT
DTSTART;TZID=America/Vancouver:20260216T190000
DTEND;TZID=America/Vancouver:20260216T200000
DTSTAMP:20260423T025337
CREATED:20260204T012756Z
LAST-MODIFIED:20260204T012756Z
UID:3617-1771268400-1771272000@purpledragonbc.com
SUMMARY:Black Belt
DESCRIPTION:
URL:https://purpledragonbc.com/event/black-belt-3/
END:VEVENT
BEGIN:VEVENT
DTSTART;TZID=America/Vancouver:20260216T174500
DTEND;TZID=America/Vancouver:20260216T184500
DTSTAMP:20260423T025337
CREATED:20260204T012026Z
LAST-MODIFIED:20260204T014556Z
UID:3615-1771263900-1771267500@purpledragonbc.com
SUMMARY:Jr. Black Belt
DESCRIPTION:
URL:https://purpledragonbc.com/event/jr-black-belt-17/
END:VEVENT
BEGIN:VEVENT
DTSTART;TZID=America/Vancouver:20260216T164500
DTEND;TZID=America/Vancouver:20260216T174500
DTSTAMP:20260423T025337
CREATED:20260204T010845Z
LAST-MODIFIED:20260204T010845Z
UID:3613-1771260300-1771263900@purpledragonbc.com
SUMMARY:Kids White-Orange
DESCRIPTION:
URL:https://purpledragonbc.com/event/kids-white-orange-55/
END:VEVENT
BEGIN:VEVENT
DTSTART;TZID=America/Vancouver:20260214T134500
DTEND;TZID=America/Vancouver:20260214T143000
DTSTAMP:20260423T025337
CREATED:20260204T010710Z
LAST-MODIFIED:20260204T010710Z
UID:3611-1771076700-1771079400@purpledragonbc.com
SUMMARY:Little Dragons (4-6)
DESCRIPTION:
URL:https://purpledragonbc.com/event/little-dragons-4-6-61/
END:VEVENT
BEGIN:VEVENT
DTSTART;TZID=America/Vancouver:20260214T123000
DTEND;TZID=America/Vancouver:20260214T133000
DTSTAMP:20260423T025337
CREATED:20260204T003759Z
LAST-MODIFIED:20260204T003759Z
UID:3607-1771072200-1771075800@purpledragonbc.com
SUMMARY:Teens & Adults Don Jitsu
DESCRIPTION:
URL:https://purpledragonbc.com/event/teens-adults-don-jitsu-18/
END:VEVENT
BEGIN:VEVENT
DTSTART;TZID=America/Vancouver:20260214T111500
DTEND;TZID=America/Vancouver:20260214T121500
DTSTAMP:20260423T025337
CREATED:20260204T003441Z
LAST-MODIFIED:20260204T003441Z
UID:3605-1771067700-1771071300@purpledragonbc.com
SUMMARY:Kids All Ranks
DESCRIPTION:
URL:https://purpledragonbc.com/event/kids-all-ranks-22/
END:VEVENT
BEGIN:VEVENT
DTSTART;TZID=America/Vancouver:20260214T103000
DTEND;TZID=America/Vancouver:20260214T110000
DTSTAMP:20260423T025337
CREATED:20260204T003352Z
LAST-MODIFIED:20260204T003352Z
UID:3603-1771065000-1771066800@purpledragonbc.com
SUMMARY:Mini Dragons (2-3)
DESCRIPTION:
URL:https://purpledragonbc.com/event/mini-dragons-2-3-23/
END:VEVENT
BEGIN:VEVENT
DTSTART;TZID=America/Vancouver:20260214T091500
DTEND;TZID=America/Vancouver:20260214T101500
DTSTAMP:20260423T025337
CREATED:20260204T003933Z
LAST-MODIFIED:20260204T003933Z
UID:3609-1771060500-1771064100@purpledragonbc.com
SUMMARY:Kickboxing 14+
DESCRIPTION:
URL:https://purpledragonbc.com/event/kickboxing-14-63/
END:VEVENT
BEGIN:VEVENT
DTSTART;TZID=America/Vancouver:20260213T190000
DTEND;TZID=America/Vancouver:20260213T200000
DTSTAMP:20260423T025337
CREATED:20260204T003227Z
LAST-MODIFIED:20260204T003227Z
UID:3599-1771009200-1771012800@purpledragonbc.com
SUMMARY:Adults Don Jitsu
DESCRIPTION:
URL:https://purpledragonbc.com/event/adults-don-jitsu-44/
END:VEVENT
BEGIN:VEVENT
DTSTART;TZID=America/Vancouver:20260213T174500
DTEND;TZID=America/Vancouver:20260213T184500
DTSTAMP:20260423T025337
CREATED:20260204T003202Z
LAST-MODIFIED:20260204T003202Z
UID:3597-1771004700-1771008300@purpledragonbc.com
SUMMARY:Kids Green-Black
DESCRIPTION:
URL:https://purpledragonbc.com/event/kids-green-black-38/
END:VEVENT
BEGIN:VEVENT
DTSTART;TZID=America/Vancouver:20260213T164500
DTEND;TZID=America/Vancouver:20260213T174500
DTSTAMP:20260423T025337
CREATED:20260204T003132Z
LAST-MODIFIED:20260204T003132Z
UID:3595-1771001100-1771004700@purpledragonbc.com
SUMMARY:Kids White-Orange
DESCRIPTION:
URL:https://purpledragonbc.com/event/kids-white-orange-54/
END:VEVENT
BEGIN:VEVENT
DTSTART;TZID=America/Vancouver:20260212T181500
DTEND;TZID=America/Vancouver:20260212T191500
DTSTAMP:20260423T025337
CREATED:20260204T003105Z
LAST-MODIFIED:20260204T003105Z
UID:3593-1770920100-1770923700@purpledragonbc.com
SUMMARY:Kickboxing 14+
DESCRIPTION:
URL:https://purpledragonbc.com/event/kickboxing-14-61/
END:VEVENT
BEGIN:VEVENT
DTSTART;TZID=America/Vancouver:20260212T160000
DTEND;TZID=America/Vancouver:20260212T170000
DTSTAMP:20260423T025337
CREATED:20260204T003014Z
LAST-MODIFIED:20260204T003014Z
UID:3591-1770912000-1770915600@purpledragonbc.com
SUMMARY:Little Dragons (4-6)
DESCRIPTION:
URL:https://purpledragonbc.com/event/little-dragons-4-6-60/
END:VEVENT
BEGIN:VEVENT
DTSTART;TZID=America/Vancouver:20260212T160000
DTEND;TZID=America/Vancouver:20260212T170000
DTSTAMP:20260423T025337
CREATED:20260204T002944Z
LAST-MODIFIED:20260204T002944Z
UID:3589-1770912000-1770915600@purpledragonbc.com
SUMMARY:Teens Don Jitsu
DESCRIPTION:
URL:https://purpledragonbc.com/event/teens-don-jitsu-20/
END:VEVENT
BEGIN:VEVENT
DTSTART;TZID=America/Vancouver:20260211T190000
DTEND;TZID=America/Vancouver:20260211T200000
DTSTAMP:20260423T025337
CREATED:20260204T002838Z
LAST-MODIFIED:20260204T002838Z
UID:3587-1770836400-1770840000@purpledragonbc.com
SUMMARY:Adults Don Jitsu
DESCRIPTION:
URL:https://purpledragonbc.com/event/adults-don-jitsu-43/
END:VEVENT
BEGIN:VEVENT
DTSTART;TZID=America/Vancouver:20260211T174500
DTEND;TZID=America/Vancouver:20260211T184500
DTSTAMP:20260423T025337
CREATED:20260204T002813Z
LAST-MODIFIED:20260204T002813Z
UID:3585-1770831900-1770835500@purpledragonbc.com
SUMMARY:Kids Green-Black
DESCRIPTION:
URL:https://purpledragonbc.com/event/kids-green-black-37/
END:VEVENT
BEGIN:VEVENT
DTSTART;TZID=America/Vancouver:20260211T164500
DTEND;TZID=America/Vancouver:20260211T174500
DTSTAMP:20260423T025337
CREATED:20260204T002729Z
LAST-MODIFIED:20260204T002729Z
UID:3583-1770828300-1770831900@purpledragonbc.com
SUMMARY:Kids White-Orange
DESCRIPTION:
URL:https://purpledragonbc.com/event/kids-white-orange-53/
END:VEVENT
BEGIN:VEVENT
DTSTART;TZID=America/Vancouver:20260210T193000
DTEND;TZID=America/Vancouver:20260210T203000
DTSTAMP:20260423T025337
CREATED:20260204T002644Z
LAST-MODIFIED:20260204T002644Z
UID:3581-1770751800-1770755400@purpledragonbc.com
SUMMARY:Don Jitsu 50+
DESCRIPTION:
URL:https://purpledragonbc.com/event/don-jitsu-50-16/
END:VEVENT
BEGIN:VEVENT
DTSTART;TZID=America/Vancouver:20260210T181500
DTEND;TZID=America/Vancouver:20260210T191500
DTSTAMP:20260423T025337
CREATED:20260204T002614Z
LAST-MODIFIED:20260204T002614Z
UID:3579-1770747300-1770750900@purpledragonbc.com
SUMMARY:Kickboxing 14+
DESCRIPTION:
URL:https://purpledragonbc.com/event/kickboxing-14-60/
END:VEVENT
BEGIN:VEVENT
DTSTART;TZID=America/Vancouver:20260210T171500
DTEND;TZID=America/Vancouver:20260210T180000
DTSTAMP:20260423T025337
CREATED:20260204T002511Z
LAST-MODIFIED:20260204T002511Z
UID:3577-1770743700-1770746400@purpledragonbc.com
SUMMARY:Little Dragons (4-6)
DESCRIPTION:
URL:https://purpledragonbc.com/event/little-dragons-4-6-59/
END:VEVENT
BEGIN:VEVENT
DTSTART;TZID=America/Vancouver:20260209T190000
DTEND;TZID=America/Vancouver:20260209T200000
DTSTAMP:20260423T025337
CREATED:20260204T002411Z
LAST-MODIFIED:20260204T002411Z
UID:3575-1770663600-1770667200@purpledragonbc.com
SUMMARY:Black Belt
DESCRIPTION:
URL:https://purpledragonbc.com/event/black-belt-2/
END:VEVENT
BEGIN:VEVENT
DTSTART;TZID=America/Vancouver:20260209T174500
DTEND;TZID=America/Vancouver:20260209T184500
DTSTAMP:20260423T025337
CREATED:20260204T002233Z
LAST-MODIFIED:20260204T002233Z
UID:3573-1770659100-1770662700@purpledragonbc.com
SUMMARY:Jr. Black Belt
DESCRIPTION:
URL:https://purpledragonbc.com/event/jr-black-belt-16/
END:VEVENT
BEGIN:VEVENT
DTSTART;TZID=America/Vancouver:20260209T164500
DTEND;TZID=America/Vancouver:20260209T174500
DTSTAMP:20260423T025337
CREATED:20260204T002103Z
LAST-MODIFIED:20260204T002103Z
UID:3571-1770655500-1770659100@purpledragonbc.com
SUMMARY:Kids White-Orange
DESCRIPTION:
URL:https://purpledragonbc.com/event/kids-white-orange-52/
END:VEVENT
BEGIN:VEVENT
DTSTART;TZID=America/Vancouver:20260207T134500
DTEND;TZID=America/Vancouver:20260207T143000
DTSTAMP:20260423T025337
CREATED:20260203T182536Z
LAST-MODIFIED:20260203T182536Z
UID:3561-1770471900-1770474600@purpledragonbc.com
SUMMARY:Little Dragons (4-6)
DESCRIPTION:
URL:https://purpledragonbc.com/event/little-dragons-4-6-58/
END:VEVENT
BEGIN:VEVENT
DTSTART;TZID=America/Vancouver:20260207T123000
DTEND;TZID=America/Vancouver:20260207T133000
DTSTAMP:20260423T025337
CREATED:20260203T182419Z
LAST-MODIFIED:20260203T182419Z
UID:3559-1770467400-1770471000@purpledragonbc.com
SUMMARY:Teens & Adults
DESCRIPTION:
URL:https://purpledragonbc.com/event/teens-adults-4/
END:VEVENT
BEGIN:VEVENT
DTSTART;TZID=America/Vancouver:20260207T111500
DTEND;TZID=America/Vancouver:20260207T121500
DTSTAMP:20260423T025337
CREATED:20260203T182241Z
LAST-MODIFIED:20260203T182241Z
UID:3557-1770462900-1770466500@purpledragonbc.com
SUMMARY:Kids All Ranks
DESCRIPTION:
URL:https://purpledragonbc.com/event/kids-all-ranks-21/
END:VEVENT
BEGIN:VEVENT
DTSTART;TZID=America/Vancouver:20260207T103000
DTEND;TZID=America/Vancouver:20260207T110000
DTSTAMP:20260423T025337
CREATED:20260203T182152Z
LAST-MODIFIED:20260203T182152Z
UID:3555-1770460200-1770462000@purpledragonbc.com
SUMMARY:Mini Dragons (2-3)
DESCRIPTION:
URL:https://purpledragonbc.com/event/mini-dragons-2-3-22/
END:VEVENT
BEGIN:VEVENT
DTSTART;TZID=America/Vancouver:20260207T091500
DTEND;TZID=America/Vancouver:20260207T101500
DTSTAMP:20260423T025337
CREATED:20260203T182101Z
LAST-MODIFIED:20260203T182101Z
UID:3553-1770455700-1770459300@purpledragonbc.com
SUMMARY:Kickboxing 14+
DESCRIPTION:
URL:https://purpledragonbc.com/event/kickboxing-14-59/
END:VEVENT
BEGIN:VEVENT
DTSTART;TZID=America/Vancouver:20260206T190000
DTEND;TZID=America/Vancouver:20260206T200000
DTSTAMP:20260423T025337
CREATED:20260203T181848Z
LAST-MODIFIED:20260203T181848Z
UID:3551-1770404400-1770408000@purpledragonbc.com
SUMMARY:Adults Don Jitsu
DESCRIPTION:
URL:https://purpledragonbc.com/event/adults-don-jitsu-42/
END:VEVENT
END:VCALENDAR