BEGIN:VCALENDAR
VERSION:2.0
PRODID:-//Purple Dragon Kitsilano - ECPv6.15.20//NONSGML v1.0//EN
CALSCALE:GREGORIAN
METHOD:PUBLISH
X-WR-CALNAME:Purple Dragon Kitsilano
X-ORIGINAL-URL:https://purpledragonbc.com
X-WR-CALDESC:Events for Purple Dragon Kitsilano
REFRESH-INTERVAL;VALUE=DURATION:PT1H
X-Robots-Tag:noindex
X-PUBLISHED-TTL:PT1H
BEGIN:VTIMEZONE
TZID:America/Vancouver
BEGIN:DAYLIGHT
TZOFFSETFROM:-0800
TZOFFSETTO:-0700
TZNAME:PDT
DTSTART:20250309T100000
END:DAYLIGHT
BEGIN:STANDARD
TZOFFSETFROM:-0700
TZOFFSETTO:-0800
TZNAME:PST
DTSTART:20251102T090000
END:STANDARD
BEGIN:DAYLIGHT
TZOFFSETFROM:-0800
TZOFFSETTO:-0700
TZNAME:PDT
DTSTART:20260308T100000
END:DAYLIGHT
BEGIN:STANDARD
TZOFFSETFROM:-0700
TZOFFSETTO:-0800
TZNAME:PST
DTSTART:20261101T090000
END:STANDARD
BEGIN:DAYLIGHT
TZOFFSETFROM:-0800
TZOFFSETTO:-0700
TZNAME:PDT
DTSTART:20270314T100000
END:DAYLIGHT
BEGIN:STANDARD
TZOFFSETFROM:-0700
TZOFFSETTO:-0800
TZNAME:PST
DTSTART:20271107T090000
END:STANDARD
END:VTIMEZONE
BEGIN:VEVENT
DTSTART;TZID=America/Vancouver:20260418T103000
DTEND;TZID=America/Vancouver:20260418T110000
DTSTAMP:20260422T154439
CREATED:20260413T225154Z
LAST-MODIFIED:20260413T225228Z
UID:3949-1776508200-1776510000@purpledragonbc.com
SUMMARY:Mini Dragons (2-3)
DESCRIPTION:
URL:https://purpledragonbc.com/event/mini-dragons-2-3-31/
END:VEVENT
BEGIN:VEVENT
DTSTART;TZID=America/Vancouver:20260418T111500
DTEND;TZID=America/Vancouver:20260418T121500
DTSTAMP:20260422T154439
CREATED:20260413T225355Z
LAST-MODIFIED:20260413T225355Z
UID:3951-1776510900-1776514500@purpledragonbc.com
SUMMARY:Kids All Ranks
DESCRIPTION:
URL:https://purpledragonbc.com/event/kids-all-ranks-30/
END:VEVENT
BEGIN:VEVENT
DTSTART;TZID=America/Vancouver:20260418T123000
DTEND;TZID=America/Vancouver:20260418T133000
DTSTAMP:20260422T154439
CREATED:20260413T225426Z
LAST-MODIFIED:20260413T225426Z
UID:3953-1776515400-1776519000@purpledragonbc.com
SUMMARY:Teens & Adults Don Jitsu
DESCRIPTION:
URL:https://purpledragonbc.com/event/teens-adults-don-jitsu-24/
END:VEVENT
BEGIN:VEVENT
DTSTART;TZID=America/Vancouver:20260418T134500
DTEND;TZID=America/Vancouver:20260418T143000
DTSTAMP:20260422T154439
CREATED:20260413T225506Z
LAST-MODIFIED:20260413T225506Z
UID:3955-1776519900-1776522600@purpledragonbc.com
SUMMARY:Little Dragons (4-6)
DESCRIPTION:
URL:https://purpledragonbc.com/event/little-dragons-4-6-85/
END:VEVENT
BEGIN:VEVENT
DTSTART;TZID=America/Vancouver:20260420T164500
DTEND;TZID=America/Vancouver:20260420T174500
DTSTAMP:20260422T154439
CREATED:20260420T153046Z
LAST-MODIFIED:20260420T153046Z
UID:3958-1776703500-1776707100@purpledragonbc.com
SUMMARY:Kids White-Orange
DESCRIPTION:
URL:https://purpledragonbc.com/event/kids-white-orange-78/
END:VEVENT
BEGIN:VEVENT
DTSTART;TZID=America/Vancouver:20260420T174500
DTEND;TZID=America/Vancouver:20260420T184500
DTSTAMP:20260422T154439
CREATED:20260420T153115Z
LAST-MODIFIED:20260420T153115Z
UID:3960-1776707100-1776710700@purpledragonbc.com
SUMMARY:Jr. Black Belt
DESCRIPTION:
URL:https://purpledragonbc.com/event/jr-black-belt-23/
END:VEVENT
BEGIN:VEVENT
DTSTART;TZID=America/Vancouver:20260420T190000
DTEND;TZID=America/Vancouver:20260420T200000
DTSTAMP:20260422T154439
CREATED:20260420T153156Z
LAST-MODIFIED:20260420T153156Z
UID:3962-1776711600-1776715200@purpledragonbc.com
SUMMARY:Black Belt
DESCRIPTION:
URL:https://purpledragonbc.com/event/black-belt-10/
END:VEVENT
BEGIN:VEVENT
DTSTART;TZID=America/Vancouver:20260421T171500
DTEND;TZID=America/Vancouver:20260421T180000
DTSTAMP:20260422T154439
CREATED:20260420T153715Z
LAST-MODIFIED:20260420T153715Z
UID:3964-1776791700-1776794400@purpledragonbc.com
SUMMARY:Little Dragons (4-6)
DESCRIPTION:
URL:https://purpledragonbc.com/event/little-dragons-4-6-86/
END:VEVENT
BEGIN:VEVENT
DTSTART;TZID=America/Vancouver:20260421T171500
DTEND;TZID=America/Vancouver:20260421T180000
DTSTAMP:20260422T154439
CREATED:20260420T170606Z
LAST-MODIFIED:20260420T170606Z
UID:4002-1776791700-1776794400@purpledragonbc.com
SUMMARY:Little Dragons (4-6)
DESCRIPTION:
URL:https://purpledragonbc.com/event/little-dragons-4-6-88/
END:VEVENT
BEGIN:VEVENT
DTSTART;TZID=America/Vancouver:20260421T181500
DTEND;TZID=America/Vancouver:20260421T191500
DTSTAMP:20260422T154439
CREATED:20260420T153745Z
LAST-MODIFIED:20260420T153745Z
UID:3966-1776795300-1776798900@purpledragonbc.com
SUMMARY:Kickboxing 14+
DESCRIPTION:
URL:https://purpledragonbc.com/event/kickboxing-14-88/
END:VEVENT
BEGIN:VEVENT
DTSTART;TZID=America/Vancouver:20260421T181500
DTEND;TZID=America/Vancouver:20260421T191500
DTSTAMP:20260422T154439
CREATED:20260420T170641Z
LAST-MODIFIED:20260420T170641Z
UID:4004-1776795300-1776798900@purpledragonbc.com
SUMMARY:Kickboxing 14+
DESCRIPTION:
URL:https://purpledragonbc.com/event/kickboxing-14-91/
END:VEVENT
BEGIN:VEVENT
DTSTART;TZID=America/Vancouver:20260421T193000
DTEND;TZID=America/Vancouver:20260421T203000
DTSTAMP:20260422T154439
CREATED:20260420T153812Z
LAST-MODIFIED:20260420T153812Z
UID:3968-1776799800-1776803400@purpledragonbc.com
SUMMARY:Don Jitsu 50+
DESCRIPTION:
URL:https://purpledragonbc.com/event/don-jitsu-50-25/
END:VEVENT
BEGIN:VEVENT
DTSTART;TZID=America/Vancouver:20260421T193000
DTEND;TZID=America/Vancouver:20260421T203000
DTSTAMP:20260422T154439
CREATED:20260420T170709Z
LAST-MODIFIED:20260420T170722Z
UID:4006-1776799800-1776803400@purpledragonbc.com
SUMMARY:Don Jitsu 50+
DESCRIPTION:
URL:https://purpledragonbc.com/event/don-jitsu-50-26/
END:VEVENT
BEGIN:VEVENT
DTSTART;TZID=America/Vancouver:20260422T164500
DTEND;TZID=America/Vancouver:20260422T174500
DTSTAMP:20260422T154439
CREATED:20260420T153843Z
LAST-MODIFIED:20260420T154017Z
UID:3970-1776876300-1776879900@purpledragonbc.com
SUMMARY:Kids White-Orange
DESCRIPTION:
URL:https://purpledragonbc.com/event/kids-white-orange-79/
END:VEVENT
BEGIN:VEVENT
DTSTART;TZID=America/Vancouver:20260422T174500
DTEND;TZID=America/Vancouver:20260422T184500
DTSTAMP:20260422T154439
CREATED:20260420T153915Z
LAST-MODIFIED:20260420T153915Z
UID:3972-1776879900-1776883500@purpledragonbc.com
SUMMARY:Kids Green-Black
DESCRIPTION:
URL:https://purpledragonbc.com/event/kids-green-black-54/
END:VEVENT
BEGIN:VEVENT
DTSTART;TZID=America/Vancouver:20260422T190000
DTEND;TZID=America/Vancouver:20260422T200000
DTSTAMP:20260422T154439
CREATED:20260420T153940Z
LAST-MODIFIED:20260420T153940Z
UID:3974-1776884400-1776888000@purpledragonbc.com
SUMMARY:Adults Don Jitsu
DESCRIPTION:
URL:https://purpledragonbc.com/event/adults-don-jitsu-60/
END:VEVENT
BEGIN:VEVENT
DTSTART;TZID=America/Vancouver:20260423T160000
DTEND;TZID=America/Vancouver:20260423T170000
DTSTAMP:20260422T154439
CREATED:20260420T154038Z
LAST-MODIFIED:20260420T154038Z
UID:3976-1776960000-1776963600@purpledragonbc.com
SUMMARY:Teens Don Jitsu
DESCRIPTION:
URL:https://purpledragonbc.com/event/teens-don-jitsu-29/
END:VEVENT
BEGIN:VEVENT
DTSTART;TZID=America/Vancouver:20260423T171500
DTEND;TZID=America/Vancouver:20260423T180000
DTSTAMP:20260422T154439
CREATED:20260420T154144Z
LAST-MODIFIED:20260420T154144Z
UID:3978-1776964500-1776967200@purpledragonbc.com
SUMMARY:Little Dragons (4-6)
DESCRIPTION:
URL:https://purpledragonbc.com/event/little-dragons-4-6-87/
END:VEVENT
BEGIN:VEVENT
DTSTART;TZID=America/Vancouver:20260423T181500
DTEND;TZID=America/Vancouver:20260423T191500
DTSTAMP:20260422T154439
CREATED:20260420T154218Z
LAST-MODIFIED:20260420T154218Z
UID:3980-1776968100-1776971700@purpledragonbc.com
SUMMARY:Kickboxing 14+
DESCRIPTION:
URL:https://purpledragonbc.com/event/kickboxing-14-89/
END:VEVENT
BEGIN:VEVENT
DTSTART;TZID=America/Vancouver:20260424T164500
DTEND;TZID=America/Vancouver:20260424T174500
DTSTAMP:20260422T154439
CREATED:20260420T154307Z
LAST-MODIFIED:20260420T154307Z
UID:3982-1777049100-1777052700@purpledragonbc.com
SUMMARY:Kids White-Orange
DESCRIPTION:
URL:https://purpledragonbc.com/event/kids-white-orange-80/
END:VEVENT
BEGIN:VEVENT
DTSTART;TZID=America/Vancouver:20260424T174500
DTEND;TZID=America/Vancouver:20260424T184500
DTSTAMP:20260422T154439
CREATED:20260420T154341Z
LAST-MODIFIED:20260420T154341Z
UID:3984-1777052700-1777056300@purpledragonbc.com
SUMMARY:Kids Green-Black
DESCRIPTION:
URL:https://purpledragonbc.com/event/kids-green-black-55/
END:VEVENT
BEGIN:VEVENT
DTSTART;TZID=America/Vancouver:20260424T190000
DTEND;TZID=America/Vancouver:20260424T200000
DTSTAMP:20260422T154439
CREATED:20260420T154616Z
LAST-MODIFIED:20260420T154616Z
UID:3986-1777057200-1777060800@purpledragonbc.com
SUMMARY:Adults Don Jitsu
DESCRIPTION:
URL:https://purpledragonbc.com/event/adults-don-jitsu-61/
END:VEVENT
BEGIN:VEVENT
DTSTART;TZID=America/Vancouver:20260425T091500
DTEND;TZID=America/Vancouver:20260425T101500
DTSTAMP:20260422T154439
CREATED:20260420T154714Z
LAST-MODIFIED:20260420T154714Z
UID:3988-1777108500-1777112100@purpledragonbc.com
SUMMARY:Kickboxing 14+
DESCRIPTION:
URL:https://purpledragonbc.com/event/kickboxing-14-90/
END:VEVENT
BEGIN:VEVENT
DTSTART;TZID=America/Vancouver:20260425T103000
DTEND;TZID=America/Vancouver:20260425T110000
DTSTAMP:20260422T154439
CREATED:20260420T154756Z
LAST-MODIFIED:20260420T154756Z
UID:3990-1777113000-1777114800@purpledragonbc.com
SUMMARY:Mini Dragons (2-3)
DESCRIPTION:
URL:https://purpledragonbc.com/event/mini-dragons-2-3-32/
END:VEVENT
BEGIN:VEVENT
DTSTART;TZID=America/Vancouver:20260425T111500
DTEND;TZID=America/Vancouver:20260425T121500
DTSTAMP:20260422T154439
CREATED:20260420T154849Z
LAST-MODIFIED:20260420T154849Z
UID:3992-1777115700-1777119300@purpledragonbc.com
SUMMARY:Kids All Ranks
DESCRIPTION:
URL:https://purpledragonbc.com/event/kids-all-ranks-31/
END:VEVENT
BEGIN:VEVENT
DTSTART;TZID=America/Vancouver:20260425T123000
DTEND;TZID=America/Vancouver:20260425T133000
DTSTAMP:20260422T154439
CREATED:20260420T154944Z
LAST-MODIFIED:20260420T154944Z
UID:3994-1777120200-1777123800@purpledragonbc.com
SUMMARY:Teens & Adults Don Jitsu
DESCRIPTION:
URL:https://purpledragonbc.com/event/teens-adults-don-jitsu-25/
END:VEVENT
BEGIN:VEVENT
DTSTART;TZID=America/Vancouver:20260427T164500
DTEND;TZID=America/Vancouver:20260427T174500
DTSTAMP:20260422T154439
CREATED:20260420T170310Z
LAST-MODIFIED:20260420T170310Z
UID:3996-1777308300-1777311900@purpledragonbc.com
SUMMARY:Kids White-Orange
DESCRIPTION:
URL:https://purpledragonbc.com/event/kids-white-orange-81/
END:VEVENT
BEGIN:VEVENT
DTSTART;TZID=America/Vancouver:20260427T174500
DTEND;TZID=America/Vancouver:20260427T184500
DTSTAMP:20260422T154439
CREATED:20260420T170417Z
LAST-MODIFIED:20260420T170417Z
UID:3998-1777311900-1777315500@purpledragonbc.com
SUMMARY:Jr. Black Belt
DESCRIPTION:
URL:https://purpledragonbc.com/event/jr-black-belt-24/
END:VEVENT
BEGIN:VEVENT
DTSTART;TZID=America/Vancouver:20260427T190000
DTEND;TZID=America/Vancouver:20260427T200000
DTSTAMP:20260422T154439
CREATED:20260420T170458Z
LAST-MODIFIED:20260420T170458Z
UID:4000-1777316400-1777320000@purpledragonbc.com
SUMMARY:Black Belt
DESCRIPTION:
URL:https://purpledragonbc.com/event/black-belt-11/
END:VEVENT
END:VCALENDAR