BEGIN:VCALENDAR
VERSION:2.0
PRODID:-//Purple Dragon Kitsilano - ECPv6.15.20//NONSGML v1.0//EN
CALSCALE:GREGORIAN
METHOD:PUBLISH
X-WR-CALNAME:Purple Dragon Kitsilano
X-ORIGINAL-URL:https://purpledragonbc.com
X-WR-CALDESC:Events for Purple Dragon Kitsilano
REFRESH-INTERVAL;VALUE=DURATION:PT1H
X-Robots-Tag:noindex
X-PUBLISHED-TTL:PT1H
BEGIN:VTIMEZONE
TZID:America/Vancouver
BEGIN:DAYLIGHT
TZOFFSETFROM:-0800
TZOFFSETTO:-0700
TZNAME:PDT
DTSTART:20240310T100000
END:DAYLIGHT
BEGIN:STANDARD
TZOFFSETFROM:-0700
TZOFFSETTO:-0800
TZNAME:PST
DTSTART:20241103T090000
END:STANDARD
BEGIN:DAYLIGHT
TZOFFSETFROM:-0800
TZOFFSETTO:-0700
TZNAME:PDT
DTSTART:20250309T100000
END:DAYLIGHT
BEGIN:STANDARD
TZOFFSETFROM:-0700
TZOFFSETTO:-0800
TZNAME:PST
DTSTART:20251102T090000
END:STANDARD
BEGIN:DAYLIGHT
TZOFFSETFROM:-0800
TZOFFSETTO:-0700
TZNAME:PDT
DTSTART:20260308T100000
END:DAYLIGHT
BEGIN:STANDARD
TZOFFSETFROM:-0700
TZOFFSETTO:-0800
TZNAME:PST
DTSTART:20261101T090000
END:STANDARD
BEGIN:DAYLIGHT
TZOFFSETFROM:-0800
TZOFFSETTO:-0700
TZNAME:PDT
DTSTART:20270314T100000
END:DAYLIGHT
BEGIN:STANDARD
TZOFFSETFROM:-0700
TZOFFSETTO:-0800
TZNAME:PST
DTSTART:20271107T090000
END:STANDARD
END:VTIMEZONE
BEGIN:VEVENT
DTSTART;TZID=America/Vancouver:20260110T103000
DTEND;TZID=America/Vancouver:20260110T110000
DTSTAMP:20260423T165807
CREATED:20251229T201137Z
LAST-MODIFIED:20251229T201137Z
UID:3372-1768041000-1768042800@purpledragonbc.com
SUMMARY:Mini Dragons (2-3)
DESCRIPTION:
URL:https://purpledragonbc.com/event/mini-dragons-2-3-18/
END:VEVENT
BEGIN:VEVENT
DTSTART;TZID=America/Vancouver:20260110T091500
DTEND;TZID=America/Vancouver:20260110T101500
DTSTAMP:20260423T165807
CREATED:20251229T201055Z
LAST-MODIFIED:20251229T201055Z
UID:3370-1768036500-1768040100@purpledragonbc.com
SUMMARY:Kickboxing 14+
DESCRIPTION:
URL:https://purpledragonbc.com/event/kickboxing-14-47/
END:VEVENT
BEGIN:VEVENT
DTSTART;TZID=America/Vancouver:20260109T190000
DTEND;TZID=America/Vancouver:20260109T200000
DTSTAMP:20260423T165807
CREATED:20251229T200935Z
LAST-MODIFIED:20251229T200935Z
UID:3368-1767985200-1767988800@purpledragonbc.com
SUMMARY:Adults Don Jitsu
DESCRIPTION:
URL:https://purpledragonbc.com/event/adults-don-jitsu-34/
END:VEVENT
BEGIN:VEVENT
DTSTART;TZID=America/Vancouver:20260109T174500
DTEND;TZID=America/Vancouver:20260109T184500
DTSTAMP:20260423T165807
CREATED:20251229T200903Z
LAST-MODIFIED:20251229T200903Z
UID:3366-1767980700-1767984300@purpledragonbc.com
SUMMARY:Kids Green-Black
DESCRIPTION:
URL:https://purpledragonbc.com/event/kids-green-black-29/
END:VEVENT
BEGIN:VEVENT
DTSTART;TZID=America/Vancouver:20260109T164500
DTEND;TZID=America/Vancouver:20260109T174500
DTSTAMP:20260423T165807
CREATED:20251229T200826Z
LAST-MODIFIED:20251229T200826Z
UID:3364-1767977100-1767980700@purpledragonbc.com
SUMMARY:Kids White-Orange
DESCRIPTION:
URL:https://purpledragonbc.com/event/kids-white-orange-39/
END:VEVENT
BEGIN:VEVENT
DTSTART;TZID=America/Vancouver:20260108T181500
DTEND;TZID=America/Vancouver:20260108T191500
DTSTAMP:20260423T165807
CREATED:20251229T200746Z
LAST-MODIFIED:20251229T200746Z
UID:3362-1767896100-1767899700@purpledragonbc.com
SUMMARY:Kickboxing 14+
DESCRIPTION:
URL:https://purpledragonbc.com/event/kickboxing-14-46/
END:VEVENT
BEGIN:VEVENT
DTSTART;TZID=America/Vancouver:20260108T171500
DTEND;TZID=America/Vancouver:20260108T180000
DTSTAMP:20260423T165807
CREATED:20251229T200711Z
LAST-MODIFIED:20251229T200711Z
UID:3360-1767892500-1767895200@purpledragonbc.com
SUMMARY:Little Dragons (4-6)
DESCRIPTION:
URL:https://purpledragonbc.com/event/little-dragons-4-6-45/
END:VEVENT
BEGIN:VEVENT
DTSTART;TZID=America/Vancouver:20260108T160000
DTEND;TZID=America/Vancouver:20260108T170000
DTSTAMP:20260423T165807
CREATED:20251229T200635Z
LAST-MODIFIED:20251229T200635Z
UID:3358-1767888000-1767891600@purpledragonbc.com
SUMMARY:Teens Don Jitsu
DESCRIPTION:
URL:https://purpledragonbc.com/event/teens-don-jitsu-15/
END:VEVENT
BEGIN:VEVENT
DTSTART;TZID=America/Vancouver:20260107T190000
DTEND;TZID=America/Vancouver:20260107T200000
DTSTAMP:20260423T165807
CREATED:20251229T200606Z
LAST-MODIFIED:20251229T200606Z
UID:3356-1767812400-1767816000@purpledragonbc.com
SUMMARY:Adults Don Jitsu
DESCRIPTION:
URL:https://purpledragonbc.com/event/adults-don-jitsu-33/
END:VEVENT
BEGIN:VEVENT
DTSTART;TZID=America/Vancouver:20260107T174500
DTEND;TZID=America/Vancouver:20260107T184500
DTSTAMP:20260423T165807
CREATED:20251229T200533Z
LAST-MODIFIED:20251229T200533Z
UID:3354-1767807900-1767811500@purpledragonbc.com
SUMMARY:Kids Green-Black
DESCRIPTION:
URL:https://purpledragonbc.com/event/kids-green-black-28/
END:VEVENT
BEGIN:VEVENT
DTSTART;TZID=America/Vancouver:20260107T164500
DTEND;TZID=America/Vancouver:20260107T174500
DTSTAMP:20260423T165807
CREATED:20251229T200443Z
LAST-MODIFIED:20251229T200443Z
UID:3352-1767804300-1767807900@purpledragonbc.com
SUMMARY:Kids White-Orange
DESCRIPTION:
URL:https://purpledragonbc.com/event/kids-white-orange-38/
END:VEVENT
BEGIN:VEVENT
DTSTART;TZID=America/Vancouver:20260106T193000
DTEND;TZID=America/Vancouver:20260106T203000
DTSTAMP:20260423T165807
CREATED:20251229T200413Z
LAST-MODIFIED:20251229T200413Z
UID:3350-1767727800-1767731400@purpledragonbc.com
SUMMARY:Don Jitsu 50+
DESCRIPTION:
URL:https://purpledragonbc.com/event/don-jitsu-50-11/
END:VEVENT
BEGIN:VEVENT
DTSTART;TZID=America/Vancouver:20260106T181500
DTEND;TZID=America/Vancouver:20260106T191500
DTSTAMP:20260423T165807
CREATED:20251229T200321Z
LAST-MODIFIED:20251229T200321Z
UID:3348-1767723300-1767726900@purpledragonbc.com
SUMMARY:Kickboxing 14+
DESCRIPTION:
URL:https://purpledragonbc.com/event/kickboxing-14-45/
END:VEVENT
BEGIN:VEVENT
DTSTART;TZID=America/Vancouver:20260106T171500
DTEND;TZID=America/Vancouver:20260106T180000
DTSTAMP:20260423T165807
CREATED:20251229T200239Z
LAST-MODIFIED:20251229T200239Z
UID:3346-1767719700-1767722400@purpledragonbc.com
SUMMARY:Little Dragons (4-6)
DESCRIPTION:
URL:https://purpledragonbc.com/event/little-dragons-4-6-44/
END:VEVENT
BEGIN:VEVENT
DTSTART;TZID=America/Vancouver:20260105T190000
DTEND;TZID=America/Vancouver:20260105T200000
DTSTAMP:20260423T165807
CREATED:20251229T200207Z
LAST-MODIFIED:20251229T200207Z
UID:3344-1767639600-1767643200@purpledragonbc.com
SUMMARY:Black Belt Class
DESCRIPTION:
URL:https://purpledragonbc.com/event/black-belt-class-5/
END:VEVENT
BEGIN:VEVENT
DTSTART;TZID=America/Vancouver:20260105T174500
DTEND;TZID=America/Vancouver:20260105T184500
DTSTAMP:20260423T165807
CREATED:20251229T200135Z
LAST-MODIFIED:20251229T200135Z
UID:3342-1767635100-1767638700@purpledragonbc.com
SUMMARY:Jr. Black Belt
DESCRIPTION:
URL:https://purpledragonbc.com/event/jr-black-belt-10/
END:VEVENT
BEGIN:VEVENT
DTSTART;TZID=America/Vancouver:20260105T164500
DTEND;TZID=America/Vancouver:20260105T174500
DTSTAMP:20260423T165807
CREATED:20251229T200059Z
LAST-MODIFIED:20251229T200059Z
UID:3340-1767631500-1767635100@purpledragonbc.com
SUMMARY:Kids White-Orange
DESCRIPTION:
URL:https://purpledragonbc.com/event/kids-white-orange-37/
END:VEVENT
BEGIN:VEVENT
DTSTART;TZID=America/Vancouver:20260103T134500
DTEND;TZID=America/Vancouver:20260103T143000
DTSTAMP:20260423T165807
CREATED:20251229T195826Z
LAST-MODIFIED:20251229T195949Z
UID:3338-1767447900-1767450600@purpledragonbc.com
SUMMARY:Little Dragons (4-6)
DESCRIPTION:
URL:https://purpledragonbc.com/event/little-dragons-4-6-43/
END:VEVENT
BEGIN:VEVENT
DTSTART;TZID=America/Vancouver:20260103T123000
DTEND;TZID=America/Vancouver:20260103T133000
DTSTAMP:20260423T165807
CREATED:20251229T195742Z
LAST-MODIFIED:20251229T195742Z
UID:3336-1767443400-1767447000@purpledragonbc.com
SUMMARY:Teens & Adults
DESCRIPTION:
URL:https://purpledragonbc.com/event/teens-adults-2/
END:VEVENT
BEGIN:VEVENT
DTSTART;TZID=America/Vancouver:20260103T111500
DTEND;TZID=America/Vancouver:20260103T121500
DTSTAMP:20260423T165807
CREATED:20251229T195659Z
LAST-MODIFIED:20251229T195659Z
UID:3334-1767438900-1767442500@purpledragonbc.com
SUMMARY:Kids All Ranks
DESCRIPTION:
URL:https://purpledragonbc.com/event/kids-all-ranks-16/
END:VEVENT
BEGIN:VEVENT
DTSTART;TZID=America/Vancouver:20260103T103000
DTEND;TZID=America/Vancouver:20260103T110000
DTSTAMP:20260423T165807
CREATED:20251229T195609Z
LAST-MODIFIED:20251229T195609Z
UID:3332-1767436200-1767438000@purpledragonbc.com
SUMMARY:Mini Dragons (2-3)
DESCRIPTION:
URL:https://purpledragonbc.com/event/mini-dragons-2-3-17/
END:VEVENT
BEGIN:VEVENT
DTSTART;TZID=America/Vancouver:20260103T091500
DTEND;TZID=America/Vancouver:20260103T101500
DTSTAMP:20260423T165807
CREATED:20251229T195519Z
LAST-MODIFIED:20251229T195519Z
UID:3330-1767431700-1767435300@purpledragonbc.com
SUMMARY:Kickboxing 14+
DESCRIPTION:
URL:https://purpledragonbc.com/event/kickboxing-14-44/
END:VEVENT
BEGIN:VEVENT
DTSTART;TZID=America/Vancouver:20260102T190000
DTEND;TZID=America/Vancouver:20260102T200000
DTSTAMP:20260423T165807
CREATED:20251212T211606Z
LAST-MODIFIED:20251212T211606Z
UID:3322-1767380400-1767384000@purpledragonbc.com
SUMMARY:Adults Don Jitsu
DESCRIPTION:
URL:https://purpledragonbc.com/event/adults-don-jitsu-32/
END:VEVENT
BEGIN:VEVENT
DTSTART;TZID=America/Vancouver:20260102T174500
DTEND;TZID=America/Vancouver:20260102T184500
DTSTAMP:20260423T165807
CREATED:20251212T211535Z
LAST-MODIFIED:20251212T211535Z
UID:3320-1767375900-1767379500@purpledragonbc.com
SUMMARY:Kids Green-Black
DESCRIPTION:
URL:https://purpledragonbc.com/event/kids-green-black-27/
END:VEVENT
BEGIN:VEVENT
DTSTART;TZID=America/Vancouver:20260102T164500
DTEND;TZID=America/Vancouver:20260102T174500
DTSTAMP:20260423T165807
CREATED:20251212T211454Z
LAST-MODIFIED:20251212T211454Z
UID:3318-1767372300-1767375900@purpledragonbc.com
SUMMARY:Kids White-Orange
DESCRIPTION:
URL:https://purpledragonbc.com/event/kids-white-orange-36/
END:VEVENT
BEGIN:VEVENT
DTSTART;TZID=America/Vancouver:20251222T080000
DTEND;TZID=America/Vancouver:20260101T200000
DTSTAMP:20260423T165807
CREATED:20251209T175623Z
LAST-MODIFIED:20251209T175623Z
UID:3235-1766390400-1767297600@purpledragonbc.com
SUMMARY:Dojo closed for the holidays
DESCRIPTION:
URL:https://purpledragonbc.com/event/dojo-closed-for-the-holidays/
END:VEVENT
BEGIN:VEVENT
DTSTART;TZID=America/Vancouver:20251220T134500
DTEND;TZID=America/Vancouver:20251220T143000
DTSTAMP:20260423T165807
CREATED:20251212T211348Z
LAST-MODIFIED:20251212T211348Z
UID:3316-1766238300-1766241000@purpledragonbc.com
SUMMARY:Little Dragons (4-6)
DESCRIPTION:
URL:https://purpledragonbc.com/event/little-dragons-4-6-42/
END:VEVENT
BEGIN:VEVENT
DTSTART;TZID=America/Vancouver:20251220T123000
DTEND;TZID=America/Vancouver:20251220T133000
DTSTAMP:20260423T165807
CREATED:20251212T211303Z
LAST-MODIFIED:20251212T211303Z
UID:3314-1766233800-1766237400@purpledragonbc.com
SUMMARY:Teens & Adults Don Jitsu
DESCRIPTION:
URL:https://purpledragonbc.com/event/teens-adults-don-jitsu-14/
END:VEVENT
BEGIN:VEVENT
DTSTART;TZID=America/Vancouver:20251220T111500
DTEND;TZID=America/Vancouver:20251220T121500
DTSTAMP:20260423T165807
CREATED:20251212T211224Z
LAST-MODIFIED:20251212T211224Z
UID:3312-1766229300-1766232900@purpledragonbc.com
SUMMARY:Kids All Ranks
DESCRIPTION:
URL:https://purpledragonbc.com/event/kids-all-ranks-15/
END:VEVENT
BEGIN:VEVENT
DTSTART;TZID=America/Vancouver:20251220T103000
DTEND;TZID=America/Vancouver:20251220T110000
DTSTAMP:20260423T165807
CREATED:20251212T211141Z
LAST-MODIFIED:20251212T211141Z
UID:3310-1766226600-1766228400@purpledragonbc.com
SUMMARY:Mini Dragons (2-3)
DESCRIPTION:
URL:https://purpledragonbc.com/event/mini-dragons-2-3-16/
END:VEVENT
END:VCALENDAR