BEGIN:VCALENDAR
VERSION:2.0
PRODID:-//Purple Dragon Kitsilano - ECPv6.15.20//NONSGML v1.0//EN
CALSCALE:GREGORIAN
METHOD:PUBLISH
X-WR-CALNAME:Purple Dragon Kitsilano
X-ORIGINAL-URL:https://purpledragonbc.com
X-WR-CALDESC:Events for Purple Dragon Kitsilano
REFRESH-INTERVAL;VALUE=DURATION:PT1H
X-Robots-Tag:noindex
X-PUBLISHED-TTL:PT1H
BEGIN:VTIMEZONE
TZID:America/Vancouver
BEGIN:DAYLIGHT
TZOFFSETFROM:-0800
TZOFFSETTO:-0700
TZNAME:PDT
DTSTART:20240310T100000
END:DAYLIGHT
BEGIN:STANDARD
TZOFFSETFROM:-0700
TZOFFSETTO:-0800
TZNAME:PST
DTSTART:20241103T090000
END:STANDARD
BEGIN:DAYLIGHT
TZOFFSETFROM:-0800
TZOFFSETTO:-0700
TZNAME:PDT
DTSTART:20250309T100000
END:DAYLIGHT
BEGIN:STANDARD
TZOFFSETFROM:-0700
TZOFFSETTO:-0800
TZNAME:PST
DTSTART:20251102T090000
END:STANDARD
BEGIN:DAYLIGHT
TZOFFSETFROM:-0800
TZOFFSETTO:-0700
TZNAME:PDT
DTSTART:20260308T100000
END:DAYLIGHT
BEGIN:STANDARD
TZOFFSETFROM:-0700
TZOFFSETTO:-0800
TZNAME:PST
DTSTART:20261101T090000
END:STANDARD
END:VTIMEZONE
BEGIN:VEVENT
DTSTART;TZID=America/Vancouver:20251217T174500
DTEND;TZID=America/Vancouver:20251217T184500
DTSTAMP:20260423T161842
CREATED:20251212T210514Z
LAST-MODIFIED:20251212T210514Z
UID:3292-1765993500-1765997100@purpledragonbc.com
SUMMARY:Kids Green-Black
DESCRIPTION:
URL:https://purpledragonbc.com/event/kids-green-black-26/
END:VEVENT
BEGIN:VEVENT
DTSTART;TZID=America/Vancouver:20251217T164500
DTEND;TZID=America/Vancouver:20251217T174500
DTSTAMP:20260423T161842
CREATED:20251212T210442Z
LAST-MODIFIED:20251212T210442Z
UID:3290-1765989900-1765993500@purpledragonbc.com
SUMMARY:Kids White-Orange
DESCRIPTION:
URL:https://purpledragonbc.com/event/kids-white-orange-34/
END:VEVENT
BEGIN:VEVENT
DTSTART;TZID=America/Vancouver:20251216T193000
DTEND;TZID=America/Vancouver:20251216T203000
DTSTAMP:20260423T161842
CREATED:20251212T210404Z
LAST-MODIFIED:20251212T210404Z
UID:3288-1765913400-1765917000@purpledragonbc.com
SUMMARY:Don Jitsu 50+
DESCRIPTION:
URL:https://purpledragonbc.com/event/don-jitsu-50-10/
END:VEVENT
BEGIN:VEVENT
DTSTART;TZID=America/Vancouver:20251216T181500
DTEND;TZID=America/Vancouver:20251216T191500
DTSTAMP:20260423T161842
CREATED:20251212T210324Z
LAST-MODIFIED:20251212T210324Z
UID:3286-1765908900-1765912500@purpledragonbc.com
SUMMARY:Kickboxing 14+
DESCRIPTION:
URL:https://purpledragonbc.com/event/kickboxing-14-41/
END:VEVENT
BEGIN:VEVENT
DTSTART;TZID=America/Vancouver:20251216T171500
DTEND;TZID=America/Vancouver:20251216T180000
DTSTAMP:20260423T161842
CREATED:20251212T210246Z
LAST-MODIFIED:20251212T210246Z
UID:3284-1765905300-1765908000@purpledragonbc.com
SUMMARY:Little Dragons (4-6)
DESCRIPTION:
URL:https://purpledragonbc.com/event/little-dragons-4-6-40/
END:VEVENT
BEGIN:VEVENT
DTSTART;TZID=America/Vancouver:20251215T183000
DTEND;TZID=America/Vancouver:20251215T203000
DTSTAMP:20260423T161842
CREATED:20251209T180145Z
LAST-MODIFIED:20251209T180145Z
UID:3241-1765823400-1765830600@purpledragonbc.com
SUMMARY:Year-end Party at St. James Hall
DESCRIPTION:
URL:https://purpledragonbc.com/event/year-end-party-at-st-james-hall/
END:VEVENT
BEGIN:VEVENT
DTSTART;TZID=America/Vancouver:20251215T173000
DTEND;TZID=America/Vancouver:20251215T183000
DTSTAMP:20260423T161842
CREATED:20251209T175915Z
LAST-MODIFIED:20251209T175915Z
UID:3239-1765819800-1765823400@purpledragonbc.com
SUMMARY:Belt Change Ceremonies
DESCRIPTION:
URL:https://purpledragonbc.com/event/belt-change-ceremonies/
END:VEVENT
BEGIN:VEVENT
DTSTART;TZID=America/Vancouver:20251213T123000
DTEND;TZID=America/Vancouver:20251213T133000
DTSTAMP:20260423T161842
CREATED:20251210T175232Z
LAST-MODIFIED:20251210T175232Z
UID:3279-1765629000-1765632600@purpledragonbc.com
SUMMARY:Teens & Adults Don Jitsu
DESCRIPTION:
URL:https://purpledragonbc.com/event/teens-adults-don-jitsu-13/
END:VEVENT
BEGIN:VEVENT
DTSTART;TZID=America/Vancouver:20251213T111500
DTEND;TZID=America/Vancouver:20251213T121500
DTSTAMP:20260423T161842
CREATED:20251210T175101Z
LAST-MODIFIED:20251210T175101Z
UID:3277-1765624500-1765628100@purpledragonbc.com
SUMMARY:Kids All Ranks
DESCRIPTION:
URL:https://purpledragonbc.com/event/kids-all-ranks-14/
END:VEVENT
BEGIN:VEVENT
DTSTART;TZID=America/Vancouver:20251213T103000
DTEND;TZID=America/Vancouver:20251213T110000
DTSTAMP:20260423T161842
CREATED:20251210T175011Z
LAST-MODIFIED:20251210T175011Z
UID:3275-1765621800-1765623600@purpledragonbc.com
SUMMARY:Mini Dragons (2-3)
DESCRIPTION:
URL:https://purpledragonbc.com/event/mini-dragons-2-3-15/
END:VEVENT
BEGIN:VEVENT
DTSTART;TZID=America/Vancouver:20251213T091500
DTEND;TZID=America/Vancouver:20251213T101500
DTSTAMP:20260423T161842
CREATED:20251210T174857Z
LAST-MODIFIED:20251210T174857Z
UID:3273-1765617300-1765620900@purpledragonbc.com
SUMMARY:Kickboxing 14+
DESCRIPTION:
URL:https://purpledragonbc.com/event/kickboxing-14-40/
END:VEVENT
BEGIN:VEVENT
DTSTART;TZID=America/Vancouver:20251212T190000
DTEND;TZID=America/Vancouver:20251212T200000
DTSTAMP:20260423T161842
CREATED:20251210T174756Z
LAST-MODIFIED:20251210T174756Z
UID:3271-1765566000-1765569600@purpledragonbc.com
SUMMARY:Adults Don Jitsu
DESCRIPTION:
URL:https://purpledragonbc.com/event/adults-don-jitsu-29/
END:VEVENT
BEGIN:VEVENT
DTSTART;TZID=America/Vancouver:20251212T174500
DTEND;TZID=America/Vancouver:20251212T184500
DTSTAMP:20260423T161842
CREATED:20251210T174718Z
LAST-MODIFIED:20251210T174718Z
UID:3269-1765561500-1765565100@purpledragonbc.com
SUMMARY:Kids Green-Black
DESCRIPTION:
URL:https://purpledragonbc.com/event/kids-green-black-25/
END:VEVENT
BEGIN:VEVENT
DTSTART;TZID=America/Vancouver:20251212T164500
DTEND;TZID=America/Vancouver:20251212T174500
DTSTAMP:20260423T161842
CREATED:20251210T174621Z
LAST-MODIFIED:20251210T174621Z
UID:3267-1765557900-1765561500@purpledragonbc.com
SUMMARY:Kids White-Orange
DESCRIPTION:
URL:https://purpledragonbc.com/event/kids-white-orange-33/
END:VEVENT
BEGIN:VEVENT
DTSTART;TZID=America/Vancouver:20251211T181500
DTEND;TZID=America/Vancouver:20251211T191500
DTSTAMP:20260423T161842
CREATED:20251209T181243Z
LAST-MODIFIED:20251209T181243Z
UID:3263-1765476900-1765480500@purpledragonbc.com
SUMMARY:Kickboxing 14+
DESCRIPTION:
URL:https://purpledragonbc.com/event/kickboxing-14-39/
END:VEVENT
BEGIN:VEVENT
DTSTART;TZID=America/Vancouver:20251211T171500
DTEND;TZID=America/Vancouver:20251211T180000
DTSTAMP:20260423T161842
CREATED:20251209T181212Z
LAST-MODIFIED:20251209T181212Z
UID:3261-1765473300-1765476000@purpledragonbc.com
SUMMARY:Little Dragons (4-6)
DESCRIPTION:
URL:https://purpledragonbc.com/event/little-dragons-4-6-38/
END:VEVENT
BEGIN:VEVENT
DTSTART;TZID=America/Vancouver:20251211T160000
DTEND;TZID=America/Vancouver:20251211T170000
DTSTAMP:20260423T161842
CREATED:20251209T180944Z
LAST-MODIFIED:20251209T181124Z
UID:3258-1765468800-1765472400@purpledragonbc.com
SUMMARY:Teens Don Jitsu
DESCRIPTION:
URL:https://purpledragonbc.com/event/adults-don-jitsu-27/
END:VEVENT
BEGIN:VEVENT
DTSTART;TZID=America/Vancouver:20251210T190000
DTEND;TZID=America/Vancouver:20251210T200000
DTSTAMP:20260423T161842
CREATED:20251210T174523Z
LAST-MODIFIED:20251210T174523Z
UID:3265-1765393200-1765396800@purpledragonbc.com
SUMMARY:Adults Don Jitsu
DESCRIPTION:
URL:https://purpledragonbc.com/event/adults-don-jitsu-28/
END:VEVENT
BEGIN:VEVENT
DTSTART;TZID=America/Vancouver:20251210T164500
DTEND;TZID=America/Vancouver:20251210T174500
DTSTAMP:20260423T161842
CREATED:20251209T180902Z
LAST-MODIFIED:20251209T180902Z
UID:3256-1765385100-1765388700@purpledragonbc.com
SUMMARY:Kids Green-Black
DESCRIPTION:
URL:https://purpledragonbc.com/event/kids-green-black-24/
END:VEVENT
BEGIN:VEVENT
DTSTART;TZID=America/Vancouver:20251210T164500
DTEND;TZID=America/Vancouver:20251210T174500
DTSTAMP:20260423T161842
CREATED:20251209T180829Z
LAST-MODIFIED:20251209T180829Z
UID:3254-1765385100-1765388700@purpledragonbc.com
SUMMARY:Kids White-Orange
DESCRIPTION:
URL:https://purpledragonbc.com/event/kids-white-orange-32/
END:VEVENT
BEGIN:VEVENT
DTSTART;TZID=America/Vancouver:20251209T193000
DTEND;TZID=America/Vancouver:20251209T203000
DTSTAMP:20260423T161842
CREATED:20251209T180700Z
LAST-MODIFIED:20251209T180720Z
UID:3251-1765308600-1765312200@purpledragonbc.com
SUMMARY:Don Jitsu 50+
DESCRIPTION:
URL:https://purpledragonbc.com/event/50-don-jitsu-3/
END:VEVENT
BEGIN:VEVENT
DTSTART;TZID=America/Vancouver:20251209T181500
DTEND;TZID=America/Vancouver:20251209T191500
DTSTAMP:20260423T161842
CREATED:20251209T180534Z
LAST-MODIFIED:20251209T180534Z
UID:3249-1765304100-1765307700@purpledragonbc.com
SUMMARY:Kickboxing 14+
DESCRIPTION:
URL:https://purpledragonbc.com/event/kickboxing-14-38/
END:VEVENT
BEGIN:VEVENT
DTSTART;TZID=America/Vancouver:20251209T171500
DTEND;TZID=America/Vancouver:20251209T180000
DTSTAMP:20260423T161842
CREATED:20251209T180458Z
LAST-MODIFIED:20251209T180458Z
UID:3247-1765300500-1765303200@purpledragonbc.com
SUMMARY:Little Dragons (4-6)
DESCRIPTION:
URL:https://purpledragonbc.com/event/little-dragons-4-6-37/
END:VEVENT
BEGIN:VEVENT
DTSTART;TZID=America/Vancouver:20251208T190000
DTEND;TZID=America/Vancouver:20251208T200000
DTSTAMP:20260423T161842
CREATED:20251209T180354Z
LAST-MODIFIED:20251209T180354Z
UID:3245-1765220400-1765224000@purpledragonbc.com
SUMMARY:Black Belt Class
DESCRIPTION:
URL:https://purpledragonbc.com/event/black-belt-class-4/
END:VEVENT
BEGIN:VEVENT
DTSTART;TZID=America/Vancouver:20251208T164500
DTEND;TZID=America/Vancouver:20251208T174500
DTSTAMP:20260423T161842
CREATED:20251209T180303Z
LAST-MODIFIED:20251209T180303Z
UID:3243-1765212300-1765215900@purpledragonbc.com
SUMMARY:Jr. Black Belt
DESCRIPTION:
URL:https://purpledragonbc.com/event/jr-black-belt-9/
END:VEVENT
BEGIN:VEVENT
DTSTART;TZID=America/Vancouver:20251208T164500
DTEND;TZID=America/Vancouver:20251208T174500
DTSTAMP:20260423T161842
CREATED:20251209T175836Z
LAST-MODIFIED:20251209T175836Z
UID:3237-1765212300-1765215900@purpledragonbc.com
SUMMARY:Kids White-Orange
DESCRIPTION:
URL:https://purpledragonbc.com/event/kids-white-orange-31/
END:VEVENT
BEGIN:VEVENT
DTSTART;TZID=America/Vancouver:20251108T103000
DTEND;TZID=America/Vancouver:20251108T110000
DTSTAMP:20260423T161842
CREATED:20251031T181747Z
LAST-MODIFIED:20251031T181747Z
UID:3230-1762597800-1762599600@purpledragonbc.com
SUMMARY:Mini Dragons (2-3)
DESCRIPTION:
URL:https://purpledragonbc.com/event/mini-dragons-2-3-14/
END:VEVENT
BEGIN:VEVENT
DTSTART;TZID=America/Vancouver:20251108T091500
DTEND;TZID=America/Vancouver:20251108T101500
DTSTAMP:20260423T161842
CREATED:20251031T181832Z
LAST-MODIFIED:20251031T181832Z
UID:3232-1762593300-1762596900@purpledragonbc.com
SUMMARY:Kickboxing 14+
DESCRIPTION:
URL:https://purpledragonbc.com/event/kickboxing-14-37/
END:VEVENT
BEGIN:VEVENT
DTSTART;TZID=America/Vancouver:20251107T190000
DTEND;TZID=America/Vancouver:20251107T200000
DTSTAMP:20260423T161842
CREATED:20251031T181133Z
LAST-MODIFIED:20251031T181133Z
UID:3228-1762542000-1762545600@purpledragonbc.com
SUMMARY:Adults Don Jitsu
DESCRIPTION:
URL:https://purpledragonbc.com/event/adults-don-jitsu-26/
END:VEVENT
BEGIN:VEVENT
DTSTART;TZID=America/Vancouver:20251107T174500
DTEND;TZID=America/Vancouver:20251107T184500
DTSTAMP:20260423T161842
CREATED:20251031T181056Z
LAST-MODIFIED:20251031T181056Z
UID:3226-1762537500-1762541100@purpledragonbc.com
SUMMARY:Kids Green-Brown
DESCRIPTION:
URL:https://purpledragonbc.com/event/kids-green-brown/
END:VEVENT
END:VCALENDAR