BEGIN:VCALENDAR
VERSION:2.0
PRODID:-//Purple Dragon Kitsilano - ECPv6.15.20//NONSGML v1.0//EN
CALSCALE:GREGORIAN
METHOD:PUBLISH
X-WR-CALNAME:Purple Dragon Kitsilano
X-ORIGINAL-URL:https://purpledragonbc.com
X-WR-CALDESC:Events for Purple Dragon Kitsilano
REFRESH-INTERVAL;VALUE=DURATION:PT1H
X-Robots-Tag:noindex
X-PUBLISHED-TTL:PT1H
BEGIN:VTIMEZONE
TZID:America/Vancouver
BEGIN:DAYLIGHT
TZOFFSETFROM:-0800
TZOFFSETTO:-0700
TZNAME:PDT
DTSTART:20250309T100000
END:DAYLIGHT
BEGIN:STANDARD
TZOFFSETFROM:-0700
TZOFFSETTO:-0800
TZNAME:PST
DTSTART:20251102T090000
END:STANDARD
BEGIN:DAYLIGHT
TZOFFSETFROM:-0800
TZOFFSETTO:-0700
TZNAME:PDT
DTSTART:20260308T100000
END:DAYLIGHT
BEGIN:STANDARD
TZOFFSETFROM:-0700
TZOFFSETTO:-0800
TZNAME:PST
DTSTART:20261101T090000
END:STANDARD
BEGIN:DAYLIGHT
TZOFFSETFROM:-0800
TZOFFSETTO:-0700
TZNAME:PDT
DTSTART:20270314T100000
END:DAYLIGHT
BEGIN:STANDARD
TZOFFSETFROM:-0700
TZOFFSETTO:-0800
TZNAME:PST
DTSTART:20271107T090000
END:STANDARD
END:VTIMEZONE
BEGIN:VEVENT
DTSTART;TZID=America/Vancouver:20260314T123000
DTEND;TZID=America/Vancouver:20260314T133000
DTSTAMP:20260423T042655
CREATED:20260313T233445Z
LAST-MODIFIED:20260313T233445Z
UID:3710-1773491400-1773495000@purpledragonbc.com
SUMMARY:Teens & Adults Don Jitsu
DESCRIPTION:
URL:https://purpledragonbc.com/event/teens-adults-don-jitsu-19/
END:VEVENT
BEGIN:VEVENT
DTSTART;TZID=America/Vancouver:20260314T111500
DTEND;TZID=America/Vancouver:20260314T121500
DTSTAMP:20260423T042655
CREATED:20260313T233408Z
LAST-MODIFIED:20260313T233408Z
UID:3708-1773486900-1773490500@purpledragonbc.com
SUMMARY:Kids All Ranks
DESCRIPTION:
URL:https://purpledragonbc.com/event/kids-all-ranks-25/
END:VEVENT
BEGIN:VEVENT
DTSTART;TZID=America/Vancouver:20260314T103000
DTEND;TZID=America/Vancouver:20260314T110000
DTSTAMP:20260423T042655
CREATED:20260313T233313Z
LAST-MODIFIED:20260313T233324Z
UID:3706-1773484200-1773486000@purpledragonbc.com
SUMMARY:Mini Dragons (2-3)
DESCRIPTION:
URL:https://purpledragonbc.com/event/mini-dragons-2-3-26/
END:VEVENT
BEGIN:VEVENT
DTSTART;TZID=America/Vancouver:20260314T091500
DTEND;TZID=America/Vancouver:20260314T101500
DTSTAMP:20260423T042655
CREATED:20260313T233226Z
LAST-MODIFIED:20260313T233226Z
UID:3704-1773479700-1773483300@purpledragonbc.com
SUMMARY:Kickboxing 14+
DESCRIPTION:
URL:https://purpledragonbc.com/event/kickboxing-14-70/
END:VEVENT
BEGIN:VEVENT
DTSTART;TZID=America/Vancouver:20260313T180000
DTEND;TZID=America/Vancouver:20260313T190000
DTSTAMP:20260423T042655
CREATED:20260313T233146Z
LAST-MODIFIED:20260313T233146Z
UID:3702-1773424800-1773428400@purpledragonbc.com
SUMMARY:Adults Don Jitsu
DESCRIPTION:
URL:https://purpledragonbc.com/event/adults-don-jitsu-49/
END:VEVENT
BEGIN:VEVENT
DTSTART;TZID=America/Vancouver:20260313T174500
DTEND;TZID=America/Vancouver:20260313T184500
DTSTAMP:20260423T042655
CREATED:20260313T233118Z
LAST-MODIFIED:20260313T233118Z
UID:3700-1773423900-1773427500@purpledragonbc.com
SUMMARY:Kids Green-Black
DESCRIPTION:
URL:https://purpledragonbc.com/event/kids-green-black-42/
END:VEVENT
BEGIN:VEVENT
DTSTART;TZID=America/Vancouver:20260313T164500
DTEND;TZID=America/Vancouver:20260313T174500
DTSTAMP:20260423T042655
CREATED:20260313T233051Z
LAST-MODIFIED:20260313T233051Z
UID:3698-1773420300-1773423900@purpledragonbc.com
SUMMARY:Kids White-Orange
DESCRIPTION:
URL:https://purpledragonbc.com/event/kids-white-orange-61/
END:VEVENT
BEGIN:VEVENT
DTSTART;TZID=America/Vancouver:20260312T181500
DTEND;TZID=America/Vancouver:20260312T191500
DTSTAMP:20260423T042655
CREATED:20260319T031154Z
LAST-MODIFIED:20260319T031154Z
UID:3837-1773339300-1773342900@purpledragonbc.com
SUMMARY:Kickboxing 14+
DESCRIPTION:
URL:https://purpledragonbc.com/event/kickboxing-14-80/
END:VEVENT
BEGIN:VEVENT
DTSTART;TZID=America/Vancouver:20260312T171500
DTEND;TZID=America/Vancouver:20260312T180000
DTSTAMP:20260423T042655
CREATED:20260319T031058Z
LAST-MODIFIED:20260319T031058Z
UID:3833-1773335700-1773338400@purpledragonbc.com
SUMMARY:Little Dragons (4-6)
DESCRIPTION:
URL:https://purpledragonbc.com/event/little-dragons-4-6-78/
END:VEVENT
BEGIN:VEVENT
DTSTART;TZID=America/Vancouver:20260312T160000
DTEND;TZID=America/Vancouver:20260312T170000
DTSTAMP:20260423T042655
CREATED:20260319T031121Z
LAST-MODIFIED:20260319T031121Z
UID:3835-1773331200-1773334800@purpledragonbc.com
SUMMARY:Teens Don Jitsu
DESCRIPTION:
URL:https://purpledragonbc.com/event/teens-don-jitsu-26/
END:VEVENT
BEGIN:VEVENT
DTSTART;TZID=America/Vancouver:20260311T190000
DTEND;TZID=America/Vancouver:20260311T200000
DTSTAMP:20260423T042655
CREATED:20260319T031317Z
LAST-MODIFIED:20260319T031317Z
UID:3843-1773255600-1773259200@purpledragonbc.com
SUMMARY:Adults Don Jitsu
DESCRIPTION:
URL:https://purpledragonbc.com/event/adults-don-jitsu-55/
END:VEVENT
BEGIN:VEVENT
DTSTART;TZID=America/Vancouver:20260311T174500
DTEND;TZID=America/Vancouver:20260311T184500
DTSTAMP:20260423T042655
CREATED:20260319T031253Z
LAST-MODIFIED:20260319T031253Z
UID:3841-1773251100-1773254700@purpledragonbc.com
SUMMARY:Kids Green-Black
DESCRIPTION:
URL:https://purpledragonbc.com/event/kids-green-black-49/
END:VEVENT
BEGIN:VEVENT
DTSTART;TZID=America/Vancouver:20260311T164500
DTEND;TZID=America/Vancouver:20260311T174500
DTSTAMP:20260423T042655
CREATED:20260319T031224Z
LAST-MODIFIED:20260319T031224Z
UID:3839-1773247500-1773251100@purpledragonbc.com
SUMMARY:Kids White-Orange
DESCRIPTION:
URL:https://purpledragonbc.com/event/kids-white-orange-70/
END:VEVENT
BEGIN:VEVENT
DTSTART;TZID=America/Vancouver:20260310T193000
DTEND;TZID=America/Vancouver:20260310T203000
DTSTAMP:20260423T042655
CREATED:20260319T052048Z
LAST-MODIFIED:20260319T052048Z
UID:3877-1773171000-1773174600@purpledragonbc.com
SUMMARY:Kids White-Orange
DESCRIPTION:
URL:https://purpledragonbc.com/event/kids-white-orange-73/
END:VEVENT
BEGIN:VEVENT
DTSTART;TZID=America/Vancouver:20260310T193000
DTEND;TZID=America/Vancouver:20260310T203000
DTSTAMP:20260423T042655
CREATED:20260319T052005Z
LAST-MODIFIED:20260319T052005Z
UID:3875-1773171000-1773174600@purpledragonbc.com
SUMMARY:Don Jitsu 50+
DESCRIPTION:
URL:https://purpledragonbc.com/event/don-jitsu-50-23/
END:VEVENT
BEGIN:VEVENT
DTSTART;TZID=America/Vancouver:20260310T181500
DTEND;TZID=America/Vancouver:20260310T191500
DTSTAMP:20260423T042655
CREATED:20260319T051939Z
LAST-MODIFIED:20260319T051939Z
UID:3873-1773166500-1773170100@purpledragonbc.com
SUMMARY:Kickboxing 14+
DESCRIPTION:
URL:https://purpledragonbc.com/event/kickboxing-14-83/
END:VEVENT
BEGIN:VEVENT
DTSTART;TZID=America/Vancouver:20260310T171500
DTEND;TZID=America/Vancouver:20260310T180000
DTSTAMP:20260423T042655
CREATED:20260319T051903Z
LAST-MODIFIED:20260319T051903Z
UID:3871-1773162900-1773165600@purpledragonbc.com
SUMMARY:Little Dragons (4-6)
DESCRIPTION:
URL:https://purpledragonbc.com/event/little-dragons-4-6-81/
END:VEVENT
BEGIN:VEVENT
DTSTART;TZID=America/Vancouver:20260228T134500
DTEND;TZID=America/Vancouver:20260228T143000
DTSTAMP:20260423T042655
CREATED:20260204T015844Z
LAST-MODIFIED:20260204T015844Z
UID:3693-1772286300-1772289000@purpledragonbc.com
SUMMARY:Little Dragons (4-6)
DESCRIPTION:
URL:https://purpledragonbc.com/event/little-dragons-4-6-67/
END:VEVENT
BEGIN:VEVENT
DTSTART;TZID=America/Vancouver:20260228T111500
DTEND;TZID=America/Vancouver:20260228T121500
DTSTAMP:20260423T042655
CREATED:20260204T015721Z
LAST-MODIFIED:20260204T015721Z
UID:3689-1772277300-1772280900@purpledragonbc.com
SUMMARY:Kids All Ranks
DESCRIPTION:
URL:https://purpledragonbc.com/event/kids-all-ranks-24/
END:VEVENT
BEGIN:VEVENT
DTSTART;TZID=America/Vancouver:20260228T103000
DTEND;TZID=America/Vancouver:20260228T110000
DTSTAMP:20260423T042655
CREATED:20260204T015645Z
LAST-MODIFIED:20260204T015645Z
UID:3687-1772274600-1772276400@purpledragonbc.com
SUMMARY:Mini Dragons (2-3)
DESCRIPTION:
URL:https://purpledragonbc.com/event/mini-dragons-2-3-25/
END:VEVENT
BEGIN:VEVENT
DTSTART;TZID=America/Vancouver:20260228T091500
DTEND;TZID=America/Vancouver:20260228T101500
DTSTAMP:20260423T042655
CREATED:20260204T015611Z
LAST-MODIFIED:20260204T015611Z
UID:3685-1772270100-1772273700@purpledragonbc.com
SUMMARY:Kickboxing 14+
DESCRIPTION:
URL:https://purpledragonbc.com/event/kickboxing-14-69/
END:VEVENT
BEGIN:VEVENT
DTSTART;TZID=America/Vancouver:20260227T190000
DTEND;TZID=America/Vancouver:20260227T200000
DTSTAMP:20260423T042655
CREATED:20260204T015525Z
LAST-MODIFIED:20260204T015525Z
UID:3683-1772218800-1772222400@purpledragonbc.com
SUMMARY:Adults Don Jitsu
DESCRIPTION:
URL:https://purpledragonbc.com/event/adults-don-jitsu-48/
END:VEVENT
BEGIN:VEVENT
DTSTART;TZID=America/Vancouver:20260227T174500
DTEND;TZID=America/Vancouver:20260227T184500
DTSTAMP:20260423T042655
CREATED:20260204T015500Z
LAST-MODIFIED:20260204T015500Z
UID:3681-1772214300-1772217900@purpledragonbc.com
SUMMARY:Kids Green-Black
DESCRIPTION:
URL:https://purpledragonbc.com/event/kids-green-black-41/
END:VEVENT
BEGIN:VEVENT
DTSTART;TZID=America/Vancouver:20260227T164500
DTEND;TZID=America/Vancouver:20260227T174500
DTSTAMP:20260423T042655
CREATED:20260204T015432Z
LAST-MODIFIED:20260204T015432Z
UID:3679-1772210700-1772214300@purpledragonbc.com
SUMMARY:Kids White-Orange
DESCRIPTION:
URL:https://purpledragonbc.com/event/kids-white-orange-60/
END:VEVENT
BEGIN:VEVENT
DTSTART;TZID=America/Vancouver:20260226T181500
DTEND;TZID=America/Vancouver:20260226T191500
DTSTAMP:20260423T042655
CREATED:20260204T015348Z
LAST-MODIFIED:20260204T015348Z
UID:3677-1772129700-1772133300@purpledragonbc.com
SUMMARY:Kickboxing 14+
DESCRIPTION:
URL:https://purpledragonbc.com/event/kickboxing-14-68/
END:VEVENT
BEGIN:VEVENT
DTSTART;TZID=America/Vancouver:20260226T171500
DTEND;TZID=America/Vancouver:20260226T180000
DTSTAMP:20260423T042655
CREATED:20260204T015322Z
LAST-MODIFIED:20260204T015322Z
UID:3675-1772126100-1772128800@purpledragonbc.com
SUMMARY:Little Dragons (4-6)
DESCRIPTION:
URL:https://purpledragonbc.com/event/little-dragons-4-6-66/
END:VEVENT
BEGIN:VEVENT
DTSTART;TZID=America/Vancouver:20260226T160000
DTEND;TZID=America/Vancouver:20260226T170000
DTSTAMP:20260423T042655
CREATED:20260204T015254Z
LAST-MODIFIED:20260204T015254Z
UID:3673-1772121600-1772125200@purpledragonbc.com
SUMMARY:Teens Don Jitsu
DESCRIPTION:
URL:https://purpledragonbc.com/event/teens-don-jitsu-22/
END:VEVENT
BEGIN:VEVENT
DTSTART;TZID=America/Vancouver:20260225T190000
DTEND;TZID=America/Vancouver:20260225T200000
DTSTAMP:20260423T042655
CREATED:20260204T015232Z
LAST-MODIFIED:20260204T015232Z
UID:3671-1772046000-1772049600@purpledragonbc.com
SUMMARY:Adults Don Jitsu
DESCRIPTION:
URL:https://purpledragonbc.com/event/adults-don-jitsu-47/
END:VEVENT
BEGIN:VEVENT
DTSTART;TZID=America/Vancouver:20260225T174500
DTEND;TZID=America/Vancouver:20260225T184500
DTSTAMP:20260423T042655
CREATED:20260204T015136Z
LAST-MODIFIED:20260204T015209Z
UID:3669-1772041500-1772045100@purpledragonbc.com
SUMMARY:Kids Green-Black
DESCRIPTION:
URL:https://purpledragonbc.com/event/kids-green-black-40/
END:VEVENT
BEGIN:VEVENT
DTSTART;TZID=America/Vancouver:20260225T164500
DTEND;TZID=America/Vancouver:20260225T174500
DTSTAMP:20260423T042655
CREATED:20260204T015108Z
LAST-MODIFIED:20260204T015108Z
UID:3667-1772037900-1772041500@purpledragonbc.com
SUMMARY:Kids White-Orange
DESCRIPTION:
URL:https://purpledragonbc.com/event/kids-white-orange-59/
END:VEVENT
END:VCALENDAR