BEGIN:VCALENDAR
VERSION:2.0
PRODID:-//Purple Dragon Kitsilano - ECPv6.15.20//NONSGML v1.0//EN
CALSCALE:GREGORIAN
METHOD:PUBLISH
X-WR-CALNAME:Purple Dragon Kitsilano
X-ORIGINAL-URL:https://purpledragonbc.com
X-WR-CALDESC:Events for Purple Dragon Kitsilano
REFRESH-INTERVAL;VALUE=DURATION:PT1H
X-Robots-Tag:noindex
X-PUBLISHED-TTL:PT1H
BEGIN:VTIMEZONE
TZID:America/Vancouver
BEGIN:DAYLIGHT
TZOFFSETFROM:-0800
TZOFFSETTO:-0700
TZNAME:PDT
DTSTART:20250309T100000
END:DAYLIGHT
BEGIN:STANDARD
TZOFFSETFROM:-0700
TZOFFSETTO:-0800
TZNAME:PST
DTSTART:20251102T090000
END:STANDARD
BEGIN:DAYLIGHT
TZOFFSETFROM:-0800
TZOFFSETTO:-0700
TZNAME:PDT
DTSTART:20260308T100000
END:DAYLIGHT
BEGIN:STANDARD
TZOFFSETFROM:-0700
TZOFFSETTO:-0800
TZNAME:PST
DTSTART:20261101T090000
END:STANDARD
BEGIN:DAYLIGHT
TZOFFSETFROM:-0800
TZOFFSETTO:-0700
TZNAME:PDT
DTSTART:20270314T100000
END:DAYLIGHT
BEGIN:STANDARD
TZOFFSETFROM:-0700
TZOFFSETTO:-0800
TZNAME:PST
DTSTART:20271107T090000
END:STANDARD
END:VTIMEZONE
BEGIN:VEVENT
DTSTART;TZID=America/Vancouver:20260123T190000
DTEND;TZID=America/Vancouver:20260123T200000
DTSTAMP:20260423T042704
CREATED:20260119T171758Z
LAST-MODIFIED:20260119T171758Z
UID:3451-1769194800-1769198400@purpledragonbc.com
SUMMARY:Adults Don Jitsu
DESCRIPTION:
URL:https://purpledragonbc.com/event/adults-don-jitsu-38/
END:VEVENT
BEGIN:VEVENT
DTSTART;TZID=America/Vancouver:20260123T174500
DTEND;TZID=America/Vancouver:20260123T184500
DTSTAMP:20260423T042704
CREATED:20260119T170006Z
LAST-MODIFIED:20260119T170006Z
UID:3449-1769190300-1769193900@purpledragonbc.com
SUMMARY:Kids Green-Black
DESCRIPTION:
URL:https://purpledragonbc.com/event/kids-green-black-33/
END:VEVENT
BEGIN:VEVENT
DTSTART;TZID=America/Vancouver:20260123T164500
DTEND;TZID=America/Vancouver:20260123T174500
DTSTAMP:20260423T042704
CREATED:20260119T165935Z
LAST-MODIFIED:20260119T165935Z
UID:3447-1769186700-1769190300@purpledragonbc.com
SUMMARY:Kids White-Orange
DESCRIPTION:
URL:https://purpledragonbc.com/event/kids-white-orange-45/
END:VEVENT
BEGIN:VEVENT
DTSTART;TZID=America/Vancouver:20260122T181500
DTEND;TZID=America/Vancouver:20260122T191500
DTSTAMP:20260423T042704
CREATED:20260119T165853Z
LAST-MODIFIED:20260119T165853Z
UID:3445-1769105700-1769109300@purpledragonbc.com
SUMMARY:Kickboxing 14+
DESCRIPTION:
URL:https://purpledragonbc.com/event/kickboxing-14-52/
END:VEVENT
BEGIN:VEVENT
DTSTART;TZID=America/Vancouver:20260122T171500
DTEND;TZID=America/Vancouver:20260122T180000
DTSTAMP:20260423T042704
CREATED:20260118T190542Z
LAST-MODIFIED:20260118T190542Z
UID:3442-1769102100-1769104800@purpledragonbc.com
SUMMARY:Little Dragons (4-6)
DESCRIPTION:
URL:https://purpledragonbc.com/event/little-dragons-4-6-51/
END:VEVENT
BEGIN:VEVENT
DTSTART;TZID=America/Vancouver:20260122T160000
DTEND;TZID=America/Vancouver:20260122T170000
DTSTAMP:20260423T042704
CREATED:20260118T190118Z
LAST-MODIFIED:20260118T190118Z
UID:3440-1769097600-1769101200@purpledragonbc.com
SUMMARY:Teens Don Jitsu
DESCRIPTION:
URL:https://purpledragonbc.com/event/teens-don-jitsu-17/
END:VEVENT
BEGIN:VEVENT
DTSTART;TZID=America/Vancouver:20260121T190000
DTEND;TZID=America/Vancouver:20260121T200000
DTSTAMP:20260423T042704
CREATED:20260118T190051Z
LAST-MODIFIED:20260118T190051Z
UID:3438-1769022000-1769025600@purpledragonbc.com
SUMMARY:Adults Don Jitsu
DESCRIPTION:
URL:https://purpledragonbc.com/event/adults-don-jitsu-37/
END:VEVENT
BEGIN:VEVENT
DTSTART;TZID=America/Vancouver:20260121T174500
DTEND;TZID=America/Vancouver:20260121T184500
DTSTAMP:20260423T042704
CREATED:20260118T185749Z
LAST-MODIFIED:20260118T185749Z
UID:3436-1769017500-1769021100@purpledragonbc.com
SUMMARY:Kids Green-Black
DESCRIPTION:
URL:https://purpledragonbc.com/event/kids-green-black-32/
END:VEVENT
BEGIN:VEVENT
DTSTART;TZID=America/Vancouver:20260121T164500
DTEND;TZID=America/Vancouver:20260121T174500
DTSTAMP:20260423T042704
CREATED:20260118T185717Z
LAST-MODIFIED:20260118T185717Z
UID:3434-1769013900-1769017500@purpledragonbc.com
SUMMARY:Kids White-Orange
DESCRIPTION:
URL:https://purpledragonbc.com/event/kids-white-orange-44/
END:VEVENT
BEGIN:VEVENT
DTSTART;TZID=America/Vancouver:20260120T193000
DTEND;TZID=America/Vancouver:20260120T203000
DTSTAMP:20260423T042704
CREATED:20260118T185527Z
LAST-MODIFIED:20260118T185527Z
UID:3432-1768937400-1768941000@purpledragonbc.com
SUMMARY:Don Jitsu 50+
DESCRIPTION:
URL:https://purpledragonbc.com/event/don-jitsu-50-13/
END:VEVENT
BEGIN:VEVENT
DTSTART;TZID=America/Vancouver:20260120T181500
DTEND;TZID=America/Vancouver:20260120T191500
DTSTAMP:20260423T042704
CREATED:20260118T185046Z
LAST-MODIFIED:20260118T185046Z
UID:3430-1768932900-1768936500@purpledragonbc.com
SUMMARY:Kickboxing 14+
DESCRIPTION:
URL:https://purpledragonbc.com/event/kickboxing-14-51/
END:VEVENT
BEGIN:VEVENT
DTSTART;TZID=America/Vancouver:20260120T171500
DTEND;TZID=America/Vancouver:20260120T180000
DTSTAMP:20260423T042704
CREATED:20260118T185014Z
LAST-MODIFIED:20260118T185014Z
UID:3428-1768929300-1768932000@purpledragonbc.com
SUMMARY:Little Dragons (4-6)
DESCRIPTION:
URL:https://purpledragonbc.com/event/little-dragons-4-6-50/
END:VEVENT
BEGIN:VEVENT
DTSTART;TZID=America/Vancouver:20260119T190000
DTEND;TZID=America/Vancouver:20260119T200000
DTSTAMP:20260423T042704
CREATED:20260118T162807Z
LAST-MODIFIED:20260118T162807Z
UID:3426-1768849200-1768852800@purpledragonbc.com
SUMMARY:Black Belt Class
DESCRIPTION:
URL:https://purpledragonbc.com/event/black-belt-class-7/
END:VEVENT
BEGIN:VEVENT
DTSTART;TZID=America/Vancouver:20260119T174500
DTEND;TZID=America/Vancouver:20260119T184500
DTSTAMP:20260423T042704
CREATED:20260118T162741Z
LAST-MODIFIED:20260118T162741Z
UID:3424-1768844700-1768848300@purpledragonbc.com
SUMMARY:Jr. Black Belt
DESCRIPTION:
URL:https://purpledragonbc.com/event/jr-black-belt-12/
END:VEVENT
BEGIN:VEVENT
DTSTART;TZID=America/Vancouver:20260119T164500
DTEND;TZID=America/Vancouver:20260119T174500
DTSTAMP:20260423T042704
CREATED:20260118T162636Z
LAST-MODIFIED:20260118T162636Z
UID:3422-1768841100-1768844700@purpledragonbc.com
SUMMARY:Kids White-Orange
DESCRIPTION:
URL:https://purpledragonbc.com/event/kids-white-orange-43/
END:VEVENT
BEGIN:VEVENT
DTSTART;TZID=America/Vancouver:20260117T134500
DTEND;TZID=America/Vancouver:20260117T143000
DTSTAMP:20260423T042704
CREATED:20260112T230645Z
LAST-MODIFIED:20260112T230645Z
UID:3420-1768657500-1768660200@purpledragonbc.com
SUMMARY:Little Dragons (4-6)
DESCRIPTION:
URL:https://purpledragonbc.com/event/little-dragons-4-6-49/
END:VEVENT
BEGIN:VEVENT
DTSTART;TZID=America/Vancouver:20260117T123000
DTEND;TZID=America/Vancouver:20260117T133000
DTSTAMP:20260423T042704
CREATED:20260112T230602Z
LAST-MODIFIED:20260112T230602Z
UID:3418-1768653000-1768656600@purpledragonbc.com
SUMMARY:Teens & Adults Don Jitsu
DESCRIPTION:
URL:https://purpledragonbc.com/event/teens-adults-don-jitsu-15/
END:VEVENT
BEGIN:VEVENT
DTSTART;TZID=America/Vancouver:20260117T111500
DTEND;TZID=America/Vancouver:20260117T121500
DTSTAMP:20260423T042704
CREATED:20260112T230514Z
LAST-MODIFIED:20260112T230514Z
UID:3416-1768648500-1768652100@purpledragonbc.com
SUMMARY:Kids All Ranks
DESCRIPTION:
URL:https://purpledragonbc.com/event/kids-all-ranks-18/
END:VEVENT
BEGIN:VEVENT
DTSTART;TZID=America/Vancouver:20260117T103000
DTEND;TZID=America/Vancouver:20260117T110000
DTSTAMP:20260423T042704
CREATED:20260112T230338Z
LAST-MODIFIED:20260112T230338Z
UID:3414-1768645800-1768647600@purpledragonbc.com
SUMMARY:Mini Dragons (2-3)
DESCRIPTION:
URL:https://purpledragonbc.com/event/mini-dragons-2-3-19/
END:VEVENT
BEGIN:VEVENT
DTSTART;TZID=America/Vancouver:20260117T091500
DTEND;TZID=America/Vancouver:20260117T101500
DTSTAMP:20260423T042704
CREATED:20260112T230131Z
LAST-MODIFIED:20260112T230131Z
UID:3412-1768641300-1768644900@purpledragonbc.com
SUMMARY:Kickboxing 14+
DESCRIPTION:
URL:https://purpledragonbc.com/event/kickboxing-14-50/
END:VEVENT
BEGIN:VEVENT
DTSTART;TZID=America/Vancouver:20260116T190000
DTEND;TZID=America/Vancouver:20260116T200000
DTSTAMP:20260423T042704
CREATED:20260112T230044Z
LAST-MODIFIED:20260112T230044Z
UID:3410-1768590000-1768593600@purpledragonbc.com
SUMMARY:Adults Don Jitsu
DESCRIPTION:
URL:https://purpledragonbc.com/event/adults-don-jitsu-36/
END:VEVENT
BEGIN:VEVENT
DTSTART;TZID=America/Vancouver:20260116T174500
DTEND;TZID=America/Vancouver:20260116T184500
DTSTAMP:20260423T042704
CREATED:20260112T230008Z
LAST-MODIFIED:20260112T230008Z
UID:3408-1768585500-1768589100@purpledragonbc.com
SUMMARY:Kids Green-Black
DESCRIPTION:
URL:https://purpledragonbc.com/event/kids-green-black-31/
END:VEVENT
BEGIN:VEVENT
DTSTART;TZID=America/Vancouver:20260116T164500
DTEND;TZID=America/Vancouver:20260116T174500
DTSTAMP:20260423T042704
CREATED:20260112T225933Z
LAST-MODIFIED:20260112T225933Z
UID:3406-1768581900-1768585500@purpledragonbc.com
SUMMARY:Kids White-Orange
DESCRIPTION:
URL:https://purpledragonbc.com/event/kids-white-orange-42/
END:VEVENT
BEGIN:VEVENT
DTSTART;TZID=America/Vancouver:20260115T181500
DTEND;TZID=America/Vancouver:20260115T191500
DTSTAMP:20260423T042704
CREATED:20251229T202550Z
LAST-MODIFIED:20251229T202550Z
UID:3402-1768500900-1768504500@purpledragonbc.com
SUMMARY:Kickboxing 14+
DESCRIPTION:
URL:https://purpledragonbc.com/event/kickboxing-14-49/
END:VEVENT
BEGIN:VEVENT
DTSTART;TZID=America/Vancouver:20260115T171500
DTEND;TZID=America/Vancouver:20260115T180000
DTSTAMP:20260423T042704
CREATED:20251229T202512Z
LAST-MODIFIED:20251229T202512Z
UID:3400-1768497300-1768500000@purpledragonbc.com
SUMMARY:Little Dragons (4-6)
DESCRIPTION:
URL:https://purpledragonbc.com/event/little-dragons-4-6-48/
END:VEVENT
BEGIN:VEVENT
DTSTART;TZID=America/Vancouver:20260115T160000
DTEND;TZID=America/Vancouver:20260115T170000
DTSTAMP:20260423T042704
CREATED:20251229T202429Z
LAST-MODIFIED:20251229T202429Z
UID:3398-1768492800-1768496400@purpledragonbc.com
SUMMARY:Teens Don Jitsu
DESCRIPTION:
URL:https://purpledragonbc.com/event/teens-don-jitsu-16/
END:VEVENT
BEGIN:VEVENT
DTSTART;TZID=America/Vancouver:20260114T190000
DTEND;TZID=America/Vancouver:20260114T200000
DTSTAMP:20260423T042704
CREATED:20251229T202357Z
LAST-MODIFIED:20251229T202357Z
UID:3396-1768417200-1768420800@purpledragonbc.com
SUMMARY:Adults Don Jitsu
DESCRIPTION:
URL:https://purpledragonbc.com/event/adults-don-jitsu-35/
END:VEVENT
BEGIN:VEVENT
DTSTART;TZID=America/Vancouver:20260114T174500
DTEND;TZID=America/Vancouver:20260114T184500
DTSTAMP:20260423T042704
CREATED:20251229T202329Z
LAST-MODIFIED:20251229T202329Z
UID:3394-1768412700-1768416300@purpledragonbc.com
SUMMARY:Kids Green-Black
DESCRIPTION:
URL:https://purpledragonbc.com/event/kids-green-black-30/
END:VEVENT
BEGIN:VEVENT
DTSTART;TZID=America/Vancouver:20260114T164500
DTEND;TZID=America/Vancouver:20260114T174500
DTSTAMP:20260423T042704
CREATED:20251229T202258Z
LAST-MODIFIED:20251229T202258Z
UID:3392-1768409100-1768412700@purpledragonbc.com
SUMMARY:Kids White-Orange
DESCRIPTION:
URL:https://purpledragonbc.com/event/kids-white-orange-41/
END:VEVENT
BEGIN:VEVENT
DTSTART;TZID=America/Vancouver:20260113T193000
DTEND;TZID=America/Vancouver:20260113T203000
DTSTAMP:20260423T042704
CREATED:20251229T202220Z
LAST-MODIFIED:20251229T202220Z
UID:3390-1768332600-1768336200@purpledragonbc.com
SUMMARY:Don Jitsu 50+
DESCRIPTION:
URL:https://purpledragonbc.com/event/don-jitsu-50-12/
END:VEVENT
END:VCALENDAR