BEGIN:VCALENDAR
VERSION:2.0
PRODID:-//Purple Dragon Kitsilano - ECPv6.15.20//NONSGML v1.0//EN
CALSCALE:GREGORIAN
METHOD:PUBLISH
X-ORIGINAL-URL:https://purpledragonbc.com
X-WR-CALDESC:Events for Purple Dragon Kitsilano
REFRESH-INTERVAL;VALUE=DURATION:PT1H
X-Robots-Tag:noindex
X-PUBLISHED-TTL:PT1H
BEGIN:VTIMEZONE
TZID:America/Vancouver
BEGIN:DAYLIGHT
TZOFFSETFROM:-0800
TZOFFSETTO:-0700
TZNAME:PDT
DTSTART:20250309T100000
END:DAYLIGHT
BEGIN:STANDARD
TZOFFSETFROM:-0700
TZOFFSETTO:-0800
TZNAME:PST
DTSTART:20251102T090000
END:STANDARD
BEGIN:DAYLIGHT
TZOFFSETFROM:-0800
TZOFFSETTO:-0700
TZNAME:PDT
DTSTART:20260308T100000
END:DAYLIGHT
BEGIN:STANDARD
TZOFFSETFROM:-0700
TZOFFSETTO:-0800
TZNAME:PST
DTSTART:20261101T090000
END:STANDARD
BEGIN:DAYLIGHT
TZOFFSETFROM:-0800
TZOFFSETTO:-0700
TZNAME:PDT
DTSTART:20270314T100000
END:DAYLIGHT
BEGIN:STANDARD
TZOFFSETFROM:-0700
TZOFFSETTO:-0800
TZNAME:PST
DTSTART:20271107T090000
END:STANDARD
END:VTIMEZONE
BEGIN:VEVENT
DTSTART;TZID=America/Vancouver:20260413T164500
DTEND;TZID=America/Vancouver:20260413T174500
DTSTAMP:20260422T110847
CREATED:20260413T223910Z
LAST-MODIFIED:20260413T223910Z
UID:3917-1776098700-1776102300@purpledragonbc.com
SUMMARY:Kids White-Orange
DESCRIPTION:
URL:https://purpledragonbc.com/event/kids-white-orange-75/
END:VEVENT
BEGIN:VEVENT
DTSTART;TZID=America/Vancouver:20260413T174500
DTEND;TZID=America/Vancouver:20260413T184500
DTSTAMP:20260422T110847
CREATED:20260413T223941Z
LAST-MODIFIED:20260413T223941Z
UID:3919-1776102300-1776105900@purpledragonbc.com
SUMMARY:Jr. Black Belt
DESCRIPTION:
URL:https://purpledragonbc.com/event/jr-black-belt-22/
END:VEVENT
BEGIN:VEVENT
DTSTART;TZID=America/Vancouver:20260413T190000
DTEND;TZID=America/Vancouver:20260413T200000
DTSTAMP:20260422T110847
CREATED:20260413T224001Z
LAST-MODIFIED:20260413T224001Z
UID:3921-1776106800-1776110400@purpledragonbc.com
SUMMARY:Black Belt
DESCRIPTION:
URL:https://purpledragonbc.com/event/black-belt-9/
END:VEVENT
END:VCALENDAR