BEGIN:VCALENDAR
VERSION:2.0
PRODID:-//Purple Dragon Kitsilano - ECPv6.15.20//NONSGML v1.0//EN
CALSCALE:GREGORIAN
METHOD:PUBLISH
X-ORIGINAL-URL:https://purpledragonbc.com
X-WR-CALDESC:Events for Purple Dragon Kitsilano
REFRESH-INTERVAL;VALUE=DURATION:PT1H
X-Robots-Tag:noindex
X-PUBLISHED-TTL:PT1H
BEGIN:VTIMEZONE
TZID:America/Vancouver
BEGIN:DAYLIGHT
TZOFFSETFROM:-0800
TZOFFSETTO:-0700
TZNAME:PDT
DTSTART:20250309T100000
END:DAYLIGHT
BEGIN:STANDARD
TZOFFSETFROM:-0700
TZOFFSETTO:-0800
TZNAME:PST
DTSTART:20251102T090000
END:STANDARD
BEGIN:DAYLIGHT
TZOFFSETFROM:-0800
TZOFFSETTO:-0700
TZNAME:PDT
DTSTART:20260308T100000
END:DAYLIGHT
BEGIN:STANDARD
TZOFFSETFROM:-0700
TZOFFSETTO:-0800
TZNAME:PST
DTSTART:20261101T090000
END:STANDARD
BEGIN:DAYLIGHT
TZOFFSETFROM:-0800
TZOFFSETTO:-0700
TZNAME:PDT
DTSTART:20270314T100000
END:DAYLIGHT
BEGIN:STANDARD
TZOFFSETFROM:-0700
TZOFFSETTO:-0800
TZNAME:PST
DTSTART:20271107T090000
END:STANDARD
END:VTIMEZONE
BEGIN:VEVENT
DTSTART;TZID=America/Vancouver:20260411T091500
DTEND;TZID=America/Vancouver:20260411T101500
DTSTAMP:20260422T110859
CREATED:20260413T223133Z
LAST-MODIFIED:20260413T223133Z
UID:3907-1775898900-1775902500@purpledragonbc.com
SUMMARY:Kickboxing 14+
DESCRIPTION:
URL:https://purpledragonbc.com/event/kickboxing-14-84/
END:VEVENT
BEGIN:VEVENT
DTSTART;TZID=America/Vancouver:20260411T103000
DTEND;TZID=America/Vancouver:20260411T110000
DTSTAMP:20260422T110859
CREATED:20260413T223607Z
LAST-MODIFIED:20260413T223607Z
UID:3909-1775903400-1775905200@purpledragonbc.com
SUMMARY:Mini Dragons (2-3)
DESCRIPTION:
URL:https://purpledragonbc.com/event/mini-dragons-2-3-30/
END:VEVENT
BEGIN:VEVENT
DTSTART;TZID=America/Vancouver:20260411T111500
DTEND;TZID=America/Vancouver:20260411T121500
DTSTAMP:20260422T110859
CREATED:20260413T223655Z
LAST-MODIFIED:20260413T223655Z
UID:3911-1775906100-1775909700@purpledragonbc.com
SUMMARY:Kids All Ranks
DESCRIPTION:
URL:https://purpledragonbc.com/event/kids-all-ranks-29/
END:VEVENT
BEGIN:VEVENT
DTSTART;TZID=America/Vancouver:20260411T123000
DTEND;TZID=America/Vancouver:20260411T133000
DTSTAMP:20260422T110859
CREATED:20260413T223734Z
LAST-MODIFIED:20260413T223734Z
UID:3913-1775910600-1775914200@purpledragonbc.com
SUMMARY:Teens & Adults Don Jitsu
DESCRIPTION:
URL:https://purpledragonbc.com/event/teens-adults-don-jitsu-23/
END:VEVENT
BEGIN:VEVENT
DTSTART;TZID=America/Vancouver:20260411T134500
DTEND;TZID=America/Vancouver:20260411T143000
DTSTAMP:20260422T110859
CREATED:20260413T223823Z
LAST-MODIFIED:20260413T223823Z
UID:3915-1775915100-1775917800@purpledragonbc.com
SUMMARY:Little Dragons (4-6)
DESCRIPTION:
URL:https://purpledragonbc.com/event/little-dragons-4-6-82/
END:VEVENT
END:VCALENDAR