BEGIN:VCALENDAR
VERSION:2.0
PRODID:-//Purple Dragon Kitsilano - ECPv6.15.20//NONSGML v1.0//EN
CALSCALE:GREGORIAN
METHOD:PUBLISH
X-ORIGINAL-URL:https://purpledragonbc.com
X-WR-CALDESC:Events for Purple Dragon Kitsilano
REFRESH-INTERVAL;VALUE=DURATION:PT1H
X-Robots-Tag:noindex
X-PUBLISHED-TTL:PT1H
BEGIN:VTIMEZONE
TZID:America/Vancouver
BEGIN:DAYLIGHT
TZOFFSETFROM:-0800
TZOFFSETTO:-0700
TZNAME:PDT
DTSTART:20250309T100000
END:DAYLIGHT
BEGIN:STANDARD
TZOFFSETFROM:-0700
TZOFFSETTO:-0800
TZNAME:PST
DTSTART:20251102T090000
END:STANDARD
BEGIN:DAYLIGHT
TZOFFSETFROM:-0800
TZOFFSETTO:-0700
TZNAME:PDT
DTSTART:20260308T100000
END:DAYLIGHT
BEGIN:STANDARD
TZOFFSETFROM:-0700
TZOFFSETTO:-0800
TZNAME:PST
DTSTART:20261101T090000
END:STANDARD
BEGIN:DAYLIGHT
TZOFFSETFROM:-0800
TZOFFSETTO:-0700
TZNAME:PDT
DTSTART:20270314T100000
END:DAYLIGHT
BEGIN:STANDARD
TZOFFSETFROM:-0700
TZOFFSETTO:-0800
TZNAME:PST
DTSTART:20271107T090000
END:STANDARD
END:VTIMEZONE
BEGIN:VEVENT
DTSTART;TZID=America/Vancouver:20260213T164500
DTEND;TZID=America/Vancouver:20260213T174500
DTSTAMP:20260423T130319
CREATED:20260204T003132Z
LAST-MODIFIED:20260204T003132Z
UID:3595-1771001100-1771004700@purpledragonbc.com
SUMMARY:Kids White-Orange
DESCRIPTION:
URL:https://purpledragonbc.com/event/kids-white-orange-54/
END:VEVENT
BEGIN:VEVENT
DTSTART;TZID=America/Vancouver:20260213T174500
DTEND;TZID=America/Vancouver:20260213T184500
DTSTAMP:20260423T130319
CREATED:20260204T003202Z
LAST-MODIFIED:20260204T003202Z
UID:3597-1771004700-1771008300@purpledragonbc.com
SUMMARY:Kids Green-Black
DESCRIPTION:
URL:https://purpledragonbc.com/event/kids-green-black-38/
END:VEVENT
BEGIN:VEVENT
DTSTART;TZID=America/Vancouver:20260213T190000
DTEND;TZID=America/Vancouver:20260213T200000
DTSTAMP:20260423T130319
CREATED:20260204T003227Z
LAST-MODIFIED:20260204T003227Z
UID:3599-1771009200-1771012800@purpledragonbc.com
SUMMARY:Adults Don Jitsu
DESCRIPTION:
URL:https://purpledragonbc.com/event/adults-don-jitsu-44/
END:VEVENT
END:VCALENDAR