BEGIN:VCALENDAR
VERSION:2.0
PRODID:-//Purple Dragon Kitsilano - ECPv6.15.20//NONSGML v1.0//EN
CALSCALE:GREGORIAN
METHOD:PUBLISH
X-ORIGINAL-URL:https://purpledragonbc.com
X-WR-CALDESC:Events for Purple Dragon Kitsilano
REFRESH-INTERVAL;VALUE=DURATION:PT1H
X-Robots-Tag:noindex
X-PUBLISHED-TTL:PT1H
BEGIN:VTIMEZONE
TZID:America/Vancouver
BEGIN:DAYLIGHT
TZOFFSETFROM:-0800
TZOFFSETTO:-0700
TZNAME:PDT
DTSTART:20250309T100000
END:DAYLIGHT
BEGIN:STANDARD
TZOFFSETFROM:-0700
TZOFFSETTO:-0800
TZNAME:PST
DTSTART:20251102T090000
END:STANDARD
BEGIN:DAYLIGHT
TZOFFSETFROM:-0800
TZOFFSETTO:-0700
TZNAME:PDT
DTSTART:20260308T100000
END:DAYLIGHT
BEGIN:STANDARD
TZOFFSETFROM:-0700
TZOFFSETTO:-0800
TZNAME:PST
DTSTART:20261101T090000
END:STANDARD
BEGIN:DAYLIGHT
TZOFFSETFROM:-0800
TZOFFSETTO:-0700
TZNAME:PDT
DTSTART:20270314T100000
END:DAYLIGHT
BEGIN:STANDARD
TZOFFSETFROM:-0700
TZOFFSETTO:-0800
TZNAME:PST
DTSTART:20271107T090000
END:STANDARD
END:VTIMEZONE
BEGIN:VEVENT
DTSTART;TZID=America/Vancouver:20260212T160000
DTEND;TZID=America/Vancouver:20260212T170000
DTSTAMP:20260423T143452
CREATED:20260204T002944Z
LAST-MODIFIED:20260204T002944Z
UID:3589-1770912000-1770915600@purpledragonbc.com
SUMMARY:Teens Don Jitsu
DESCRIPTION:
URL:https://purpledragonbc.com/event/teens-don-jitsu-20/
END:VEVENT
BEGIN:VEVENT
DTSTART;TZID=America/Vancouver:20260212T160000
DTEND;TZID=America/Vancouver:20260212T170000
DTSTAMP:20260423T143452
CREATED:20260204T003014Z
LAST-MODIFIED:20260204T003014Z
UID:3591-1770912000-1770915600@purpledragonbc.com
SUMMARY:Little Dragons (4-6)
DESCRIPTION:
URL:https://purpledragonbc.com/event/little-dragons-4-6-60/
END:VEVENT
BEGIN:VEVENT
DTSTART;TZID=America/Vancouver:20260212T181500
DTEND;TZID=America/Vancouver:20260212T191500
DTSTAMP:20260423T143452
CREATED:20260204T003105Z
LAST-MODIFIED:20260204T003105Z
UID:3593-1770920100-1770923700@purpledragonbc.com
SUMMARY:Kickboxing 14+
DESCRIPTION:
URL:https://purpledragonbc.com/event/kickboxing-14-61/
END:VEVENT
END:VCALENDAR